BEGIN:VCALENDAR
VERSION:2.0
PRODID:-//calparents.org//NONSGML kigkonsult.se iCalcreator 2.30.10//
CALSCALE:GREGORIAN
METHOD:PUBLISH
UID:35a10f70-4fc5-48ea-ade8-250f3daf2fb4
X-WR-CALDESC:<b>Resource Family Pre-Service Training:</b> all classes are f
 ree of charge\; child care and light snacks provided.\n\n<b>Module 1 Cours
 e Objectives:</b> resource family approval\, child welfare services\, safe
 ty\, permanency and well-being\, and concurrent planning.\n\n<b>When regis
 tering\, please use the unique contact information for each participant. T
 his information is used to verify each registrants attendance.</b>
X-WR-RELCALID:b37cd6f5e8f99c384001e5a04501e361
X-WR-TIMEZONE:America/Los_Angeles
BEGIN:VTIMEZONE
TZID:America/Los_Angeles
BEGIN:STANDARD
TZNAME:PST
DTSTART:20281105T020000
TZOFFSETFROM:-0700
TZOFFSETTO:-0800
RDATE:20291104T020000
RDATE:20301103T020000
END:STANDARD
BEGIN:DAYLIGHT
TZNAME:PDT
DTSTART:20290311T020000
TZOFFSETFROM:-0800
TZOFFSETTO:-0700
RDATE:20300310T020000
END:DAYLIGHT
END:VTIMEZONE
BEGIN:VEVENT
UID:1e843935-5abe-44ba-b4ff-2ce02b983c0c
DTSTAMP:20260424T063105Z
DESCRIPTION:<b>Resource Family Pre-Service Training:</b> all classes are fr
 ee of charge\; child care and light snacks provided.\n\n<b>Module 1 Course
  Objectives:</b> resource family approval\, child welfare services\, safet
 y\, permanency and well-being\, and concurrent planning.\n\n<b>When regist
 ering\, please use the unique contact information for each participant. Th
 is information is used to verify each registrants attendance.</b>
DTSTART;TZID=America/Los_Angeles:20290701T180000
DTEND;TZID=America/Los_Angeles:20290701T210000
LOCATION:Child Parent Institute | 3642 Standish Avenue\, Santa Rosa
SUMMARY:1:1 RFT Zoom Training Registration
END:VEVENT
END:VCALENDAR
