BEGIN:VCALENDAR
VERSION:2.0
PRODID:-//calparents.org//NONSGML kigkonsult.se iCalcreator 2.30.10//
CALSCALE:GREGORIAN
METHOD:PUBLISH
UID:a196cc25-8a21-4aaf-87b3-4d07f22306b2
X-WR-CALDESC:<b>Resource Family Pre-Service Training:</b> all classes are f
 ree of charge\; child care and light snacks provided.\n\n<b>Module 5 Cours
 e Objectives:</b> Childhood Trauma: Types\, Triggers\, & Impact.\n\n<b>Whe
 n registering\, please use the unique contact information for each partici
 pant. This information is used to verify each registrants attendance.</b>
X-WR-RELCALID:aef5bf0ea22ce5356d7788c365b75488
X-WR-TIMEZONE:America/Los_Angeles
BEGIN:VTIMEZONE
TZID:America/Los_Angeles
BEGIN:STANDARD
TZNAME:PST
DTSTART:20251102T020000
TZOFFSETFROM:-0700
TZOFFSETTO:-0800
RDATE:20261101T020000
RDATE:20271107T020000
END:STANDARD
BEGIN:DAYLIGHT
TZNAME:PDT
DTSTART:20260308T020000
TZOFFSETFROM:-0800
TZOFFSETTO:-0700
RDATE:20270314T020000
END:DAYLIGHT
END:VTIMEZONE
BEGIN:VEVENT
UID:1617b913-df26-46be-bdc6-794c03cb7f4d
DTSTAMP:20260420T005845Z
DESCRIPTION:<b>Resource Family Pre-Service Training:</b> all classes are fr
 ee of charge\; child care and light snacks provided.\n\n<b>Module 5 Course
  Objectives:</b> Childhood Trauma: Types\, Triggers\, & Impact.\n\n<b>When
  registering\, please use the unique contact information for each particip
 ant. This information is used to verify each registrants attendance.</b>
DTSTART;TZID=America/Los_Angeles:20260527T180000
DTEND;TZID=America/Los_Angeles:20260527T210000
LOCATION:Child Parent Institute | 3642 Standish Avenue\, Santa Rosa
SUMMARY:Resource Family Training Module 5
END:VEVENT
END:VCALENDAR
