BEGIN:VCALENDAR
VERSION:2.0
PRODID:-//calparents.org//NONSGML kigkonsult.se iCalcreator 2.30.10//
CALSCALE:GREGORIAN
METHOD:PUBLISH
UID:2addf353-bd4f-49c1-8036-3e97d41859f5
X-WR-CALDESC:<b>Resource Family Pre-Service Training:</b> all classes are f
 ree of charge\; child care and light snacks provided.\n\n<b>Module 6 Cours
 e Objectives:</b> Grief\, loss\, Transitions\, & Building Resiliency.\n\n<
 b>When registering\, please use the unique contact information for each pa
 rticipant. This information is used to verify each registrants attendance.
 </b>
X-WR-RELCALID:ff77b18a902c71d19ce00739f3b2b2e7
X-WR-TIMEZONE:America/Los_Angeles
BEGIN:VTIMEZONE
TZID:America/Los_Angeles
BEGIN:STANDARD
TZNAME:PST
DTSTART:20251102T020000
TZOFFSETFROM:-0700
TZOFFSETTO:-0800
RDATE:20261101T020000
END:STANDARD
BEGIN:DAYLIGHT
TZNAME:PDT
DTSTART:20260308T020000
TZOFFSETFROM:-0800
TZOFFSETTO:-0700
RDATE:20270314T020000
END:DAYLIGHT
END:VTIMEZONE
BEGIN:VEVENT
UID:1f1f5203-ca5a-420f-9e5b-f259b4816347
DTSTAMP:20260419T233106Z
DESCRIPTION:<b>Resource Family Pre-Service Training:</b> all classes are fr
 ee of charge\; child care and light snacks provided.\n\n<b>Module 6 Course
  Objectives:</b> Grief\, loss\, Transitions\, & Building Resiliency.\n\n<b
 >When registering\, please use the unique contact information for each par
 ticipant. This information is used to verify each registrants attendance.<
 /b>
DTSTART;TZID=America/Los_Angeles:20260430T180000
DTEND;TZID=America/Los_Angeles:20260430T210000
LOCATION:Child Parent Institute | 3642 Standish Avenue\, Santa Rosa
SUMMARY:Resource Family Training Module 6
END:VEVENT
END:VCALENDAR
