BEGIN:VCALENDAR
VERSION:2.0
PRODID:-//calparents.org//NONSGML kigkonsult.se iCalcreator 2.30.10//
CALSCALE:GREGORIAN
METHOD:PUBLISH
UID:d47f24c2-bf43-416c-8463-d25496ab022b
X-WR-CALDESC:<b>Resource Family Pre-Service Training:</b> all classes are f
 ree of charge\; child care and light snacks provided.\n\n<b>Module 2 Cours
 e Objectives:</b> Professional Collaboration\, Cultural Humility\, Persona
 l Rights & Confidentiality.\n\n<b>When registering\, please use the unique
  contact information for each participant. This information is used to ver
 ify each registrants attendance.</b>
X-WR-RELCALID:81cef6bfdf4c56eed96c7d89a5cc11cc
X-WR-TIMEZONE:America/Los_Angeles
BEGIN:VTIMEZONE
TZID:America/Los_Angeles
BEGIN:STANDARD
TZNAME:PST
DTSTART:20251102T020000
TZOFFSETFROM:-0700
TZOFFSETTO:-0800
RDATE:20261101T020000
END:STANDARD
BEGIN:DAYLIGHT
TZNAME:PDT
DTSTART:20260308T020000
TZOFFSETFROM:-0800
TZOFFSETTO:-0700
RDATE:20270314T020000
END:DAYLIGHT
END:VTIMEZONE
BEGIN:VEVENT
UID:343d9685-42b3-4bae-b920-5a200a0b9c48
DTSTAMP:20260419T233457Z
DESCRIPTION:<b>Resource Family Pre-Service Training:</b> all classes are fr
 ee of charge\; child care and light snacks provided.\n\n<b>Module 2 Course
  Objectives:</b> Professional Collaboration\, Cultural Humility\, Personal
  Rights & Confidentiality.\n\n<b>When registering\, please use the unique 
 contact information for each participant. This information is used to veri
 fy each registrants attendance.</b>
DTSTART;TZID=America/Los_Angeles:20260416T180000
DTEND;TZID=America/Los_Angeles:20260416T210000
LOCATION:Child Parent Institute | 3642 Standish Avenue\, Santa Rosa
SUMMARY:Resource Family Training Module 2
END:VEVENT
END:VCALENDAR
