BEGIN:VCALENDAR
VERSION:2.0
PRODID:-//calparents.org//NONSGML kigkonsult.se iCalcreator 2.30.10//
CALSCALE:GREGORIAN
METHOD:PUBLISH
UID:934654f8-6e07-4e71-8326-f840e4bbc9ed
X-WR-CALDESC:<b>Resource Family Pre-Service Training:</b> all classes are f
 ree of charge\; child care and light snacks provided.\n\n<b>Module 1 & 2 C
 ourse Objectives:</b> resource family approval\, child welfare services\, 
 safety\, permanency and well-being\, and concurrent planning.\nMembers of 
 the professional team\, cultural humility\, personal rights\, prudent pare
 nt standard\, and confidentiality.\n\n<b>When registering\, please use the
  unique contact information for each participant. This information is used
  to verify each registrants attendance.</b>
X-WR-RELCALID:4fa297325ed37f1591de64e2042c5a8a
X-WR-TIMEZONE:America/Los_Angeles
BEGIN:VTIMEZONE
TZID:America/Los_Angeles
BEGIN:STANDARD
TZNAME:PST
DTSTART:20251102T020000
TZOFFSETFROM:-0700
TZOFFSETTO:-0800
RDATE:20261101T020000
END:STANDARD
BEGIN:DAYLIGHT
TZNAME:PDT
DTSTART:20260308T020000
TZOFFSETFROM:-0800
TZOFFSETTO:-0700
RDATE:20270314T020000
END:DAYLIGHT
END:VTIMEZONE
BEGIN:VEVENT
UID:b9731a40-b76c-4948-8096-a5b6e06f60e4
DTSTAMP:20260419T222327Z
DESCRIPTION:<b>Resource Family Pre-Service Training:</b> all classes are fr
 ee of charge\; child care and light snacks provided.\n\n<b>Module 1 & 2 Co
 urse Objectives:</b> resource family approval\, child welfare services\, s
 afety\, permanency and well-being\, and concurrent planning.\nMembers of t
 he professional team\, cultural humility\, personal rights\, prudent paren
 t standard\, and confidentiality.\n\n<b>When registering\, please use the 
 unique contact information for each participant. This information is used 
 to verify each registrants attendance.</b>
DTSTART;TZID=America/Los_Angeles:20260314T090000
DTEND;TZID=America/Los_Angeles:20260314T153000
LOCATION:Child Parent Institute | 3642 Standish Avenue\, Santa Rosa
SUMMARY:Resource Family Training Module 1 & 2
END:VEVENT
END:VCALENDAR
