BEGIN:VCALENDAR
VERSION:2.0
PRODID:-//calparents.org//NONSGML kigkonsult.se iCalcreator 2.30.10//
CALSCALE:GREGORIAN
METHOD:PUBLISH
UID:78399b3f-fb4a-4ec5-a0be-47c7fd8038df
X-WR-CALDESC:<b>Resource Family Pre-Service Training:</b> all classes are f
 ree of charge\; child care and light snacks provided.\n\n<b>Module 5&6 Cou
 rse Objectives:</b>\nTypes of childhood trauma\, traumatic stress response
  cycle\, understanding trauma triggers\, and the impact of trauma exposure
 .  \nGrief and loss\, transitions\, vicarious trauma\, and resiliency.\n\n
 <b>When registering\, please use the unique contact information for each p
 articipant. This information is used to verify each registrants attendance
 .</b>
X-WR-RELCALID:25d333c79734f05aa20e4ad40d25a009
X-WR-TIMEZONE:America/Los_Angeles
BEGIN:VTIMEZONE
TZID:America/Los_Angeles
BEGIN:STANDARD
TZNAME:PST
DTSTART:20251102T020000
TZOFFSETFROM:-0700
TZOFFSETTO:-0800
RDATE:20261101T020000
END:STANDARD
BEGIN:DAYLIGHT
TZNAME:PDT
DTSTART:20250309T020000
TZOFFSETFROM:-0800
TZOFFSETTO:-0700
RDATE:20260308T020000
RDATE:20270314T020000
END:DAYLIGHT
END:VTIMEZONE
BEGIN:VEVENT
UID:01fc1a73-0516-4e65-82bf-20d2ca88b1bf
DTSTAMP:20260419T205944Z
DESCRIPTION:<b>Resource Family Pre-Service Training:</b> all classes are fr
 ee of charge\; child care and light snacks provided.\n\n<b>Module 5&6 Cour
 se Objectives:</b>\nTypes of childhood trauma\, traumatic stress response 
 cycle\, understanding trauma triggers\, and the impact of trauma exposure.
   \nGrief and loss\, transitions\, vicarious trauma\, and resiliency.\n\n<
 b>When registering\, please use the unique contact information for each pa
 rticipant. This information is used to verify each registrants attendance.
 </b>
DTSTART;TZID=America/Los_Angeles:20260221T090000
DTEND;TZID=America/Los_Angeles:20260221T153000
LOCATION:Child Parent Institute | 3642 Standish Avenue\, Santa Rosa
SUMMARY:Resource Family Training Module 5 & 6
END:VEVENT
END:VCALENDAR
