BEGIN:VCALENDAR
VERSION:2.0
PRODID:-//calparents.org//NONSGML kigkonsult.se iCalcreator 2.30.10//
CALSCALE:GREGORIAN
METHOD:PUBLISH
UID:584a6181-361b-447f-b345-e569793c0bb9
X-WR-CALDESC:<b>Capacitación De La Familia De Recursos:</b> todas las clase
 s son gratis\; cuidado de niños y comida ligera proporcionada\n\n<b>Módulo
  6:</b> Duelo y pérdida\, transiciones\, trauma vicario\, y resiliencia.\n
 \n<b>Al registrarse\, utilice la información de contacto única de cada par
 ticipante. Esta información se utiliza para verificar la asistencia de cad
 a inscripto.</b>
X-WR-RELCALID:af1721aa388036be9005d468d7541c2f
X-WR-TIMEZONE:America/Los_Angeles
BEGIN:VTIMEZONE
TZID:America/Los_Angeles
BEGIN:STANDARD
TZNAME:PST
DTSTART:20251102T020000
TZOFFSETFROM:-0700
TZOFFSETTO:-0800
RDATE:20261101T020000
END:STANDARD
BEGIN:DAYLIGHT
TZNAME:PDT
DTSTART:20250309T020000
TZOFFSETFROM:-0800
TZOFFSETTO:-0700
RDATE:20260308T020000
RDATE:20270314T020000
END:DAYLIGHT
END:VTIMEZONE
BEGIN:VEVENT
UID:7cedf309-0642-434c-885c-110f0cd12396
DTSTAMP:20260419T193208Z
DESCRIPTION:<b>Capacitación De La Familia De Recursos:</b> todas las clases
  son gratis\; cuidado de niños y comida ligera proporcionada\n\n<b>Módulo 
 6:</b> Duelo y pérdida\, transiciones\, trauma vicario\, y resiliencia.\n
 \n<b>Al registrarse\, utilice la información de contacto única de cada par
 ticipante. Esta información se utiliza para verificar la asistencia de cad
 a inscripto.</b>
DTSTART;TZID=America/Los_Angeles:20260126T180000
DTEND;TZID=America/Los_Angeles:20260126T210000
LOCATION:Child Parent Institute | 3642 Standish Avenue\, Santa Rosa
SUMMARY:Familia de Recursos- Módulos 6
END:VEVENT
END:VCALENDAR
