BEGIN:VCALENDAR
VERSION:2.0
PRODID:-//calparents.org//NONSGML kigkonsult.se iCalcreator 2.30.10//
CALSCALE:GREGORIAN
METHOD:PUBLISH
UID:5cd03008-e1b2-422a-9eb2-e6a46c66be85
X-WR-CALDESC:<b>Resource Family Pre-Service Training:</b> all classes are f
 ree of charge\; child care and light snacks provided.\n\n<b>Module 4 Cours
 e Objectives:</b> Supervised visitations\, boundaries\, punishment vs disc
 ipline\, managing emotional and behavioral needs\, and psychotropic medica
 tion.\n\n<b>When registering\, please use the unique contact information f
 or each participant. This information is used to verify each registrants a
 ttendance.</b>
X-WR-RELCALID:a8f2330dd8b323af8fcaabde40319de6
X-WR-TIMEZONE:America/Los_Angeles
BEGIN:VTIMEZONE
TZID:America/Los_Angeles
BEGIN:STANDARD
TZNAME:PST
DTSTART:20251102T020000
TZOFFSETFROM:-0700
TZOFFSETTO:-0800
RDATE:20261101T020000
END:STANDARD
BEGIN:DAYLIGHT
TZNAME:PDT
DTSTART:20250309T020000
TZOFFSETFROM:-0800
TZOFFSETTO:-0700
RDATE:20260308T020000
RDATE:20270314T020000
END:DAYLIGHT
END:VTIMEZONE
BEGIN:VEVENT
UID:a0378567-80da-4437-9457-629820d89f6f
DTSTAMP:20260419T192927Z
DESCRIPTION:<b>Resource Family Pre-Service Training:</b> all classes are fr
 ee of charge\; child care and light snacks provided.\n\n<b>Module 4 Course
  Objectives:</b> Supervised visitations\, boundaries\, punishment vs disci
 pline\, managing emotional and behavioral needs\, and psychotropic medicat
 ion.\n\n<b>When registering\, please use the unique contact information fo
 r each participant. This information is used to verify each registrants at
 tendance.</b>
DTSTART;TZID=America/Los_Angeles:20260113T180000
DTEND;TZID=America/Los_Angeles:20260113T210000
LOCATION:Child Parent Institute | 3642 Standish Avenue\, Santa Rosa
SUMMARY:Resource Family Training Module 4
END:VEVENT
END:VCALENDAR
