BEGIN:VCALENDAR
VERSION:2.0
PRODID:-//calparents.org//NONSGML kigkonsult.se iCalcreator 2.30.10//
CALSCALE:GREGORIAN
METHOD:PUBLISH
UID:4b03d49a-dd11-4695-9add-f55f0b9dc57b
X-WR-CALDESC:<b>Capacitación De La Familia De Recursos:</b> todas las clase
 s son gratis\; cuidado de niños y comida ligera proporcionada\n\n<b>Módulo
  3:</b> Dominios del desarrollo\, SOGIE\, naturaleza vs crianza\, apego y 
 las necesidades de los niños y jóvenes en cuidado de crianza.\n\n<b>Al reg
 istrarse\, utilice la información de contacto única de cada participante. 
 Esta información se utiliza para verificar la asistencia de cada inscripto
 .</b>
X-WR-RELCALID:2b81d040d5010c0f00ba2771f066a1d0
X-WR-TIMEZONE:America/Los_Angeles
BEGIN:VTIMEZONE
TZID:America/Los_Angeles
BEGIN:STANDARD
TZNAME:PST
DTSTART:20251102T020000
TZOFFSETFROM:-0700
TZOFFSETTO:-0800
RDATE:20261101T020000
END:STANDARD
BEGIN:DAYLIGHT
TZNAME:PDT
DTSTART:20250309T020000
TZOFFSETFROM:-0800
TZOFFSETTO:-0700
RDATE:20260308T020000
RDATE:20270314T020000
END:DAYLIGHT
END:VTIMEZONE
BEGIN:VEVENT
UID:4b9d6f05-e32c-47dd-bcde-41104dfff6ff
DTSTAMP:20260419T193316Z
DESCRIPTION:<b>Capacitación De La Familia De Recursos:</b> todas las clases
  son gratis\; cuidado de niños y comida ligera proporcionada\n\n<b>Módulo 
 3:</b> Dominios del desarrollo\, SOGIE\, naturaleza vs crianza\, apego y l
 as necesidades de los niños y jóvenes en cuidado de crianza.\n\n<b>Al regi
 strarse\, utilice la información de contacto única de cada participante. E
 sta información se utiliza para verificar la asistencia de cada inscripto.
 </b>
DTSTART;TZID=America/Los_Angeles:20260112T180000
DTEND;TZID=America/Los_Angeles:20260112T210000
LOCATION:Child Parent Institute | 3642 Standish Avenue\, Santa Rosa
SUMMARY:Familia de Recursos- Módulos 3
END:VEVENT
END:VCALENDAR
