BEGIN:VCALENDAR
VERSION:2.0
PRODID:-//calparents.org//NONSGML kigkonsult.se iCalcreator 2.30.10//
CALSCALE:GREGORIAN
METHOD:PUBLISH
UID:a3ee5dd6-6eee-4fcd-bb3a-bcd891c18e6a
X-WR-CALDESC:<b>Capacitación De La Familia De Recursos:</b> todas las clase
 s son gratis\; cuidado de niños y comida ligera proporcionada\n\n<b>Módulo
  1:</b> Aprobación familiar de recursos\, servicios de bienestar infantil\
 , seguridad\, permanencia y bienestar\, y planificación concurrente.\nCoun
 try (Address (Module 1 ))\n\n<b>Al registrarse\, utilice la información de
  contacto única de cada participante. Esta información se utiliza para ver
 ificar la asistencia de cada inscripto.</b>
X-WR-RELCALID:f2fb8a85e81d87894a99b21532f27acc
X-WR-TIMEZONE:America/Los_Angeles
BEGIN:VTIMEZONE
TZID:America/Los_Angeles
BEGIN:STANDARD
TZNAME:PST
DTSTART:20251102T020000
TZOFFSETFROM:-0700
TZOFFSETTO:-0800
RDATE:20261101T020000
END:STANDARD
BEGIN:DAYLIGHT
TZNAME:PDT
DTSTART:20250309T020000
TZOFFSETFROM:-0800
TZOFFSETTO:-0700
RDATE:20260308T020000
RDATE:20270314T020000
END:DAYLIGHT
END:VTIMEZONE
BEGIN:VEVENT
UID:163a4531-22ac-4c52-a2b3-0612d8bbaf5f
DTSTAMP:20260419T193326Z
DESCRIPTION:<b>Capacitación De La Familia De Recursos:</b> todas las clases
  son gratis\; cuidado de niños y comida ligera proporcionada\n\n<b>Módulo 
 1:</b> Aprobación familiar de recursos\, servicios de bienestar infantil\,
  seguridad\, permanencia y bienestar\, y planificación concurrente.\nCount
 ry (Address (Module 1 ))\n\n<b>Al registrarse\, utilice la información de 
 contacto única de cada participante. Esta información se utiliza para veri
 ficar la asistencia de cada inscripto.</b>
DTSTART;TZID=America/Los_Angeles:20260105T180000
DTEND;TZID=America/Los_Angeles:20260105T210000
LOCATION:Child Parent Institute | 3642 Standish Avenue\, Santa Rosa
SUMMARY:Familia de Recursos- Módulos 1
END:VEVENT
END:VCALENDAR
