BEGIN:VCALENDAR
VERSION:2.0
PRODID:-//calparents.org//NONSGML kigkonsult.se iCalcreator 2.30.10//
CALSCALE:GREGORIAN
METHOD:PUBLISH
UID:ba39787f-ce22-4aa4-95f6-7a829c07291e
X-WR-CALDESC:<b>Resource Family Pre-Service Training:</b> all classes are f
 ree of charge\; child care and light snacks provided.\n\n<b>Module 6 Cours
 e Objectives:</b> Grief and loss\, transitions\, vicarious trauma\, and re
 siliency.\n\n<b>When registering\, please use the unique contact informati
 on for each participant. This information is used to verify each registran
 t's attendance.</b>
X-WR-RELCALID:a5ab3ed0a7d4eb05b35aa755ad33cddb
X-WR-TIMEZONE:America/Los_Angeles
BEGIN:VTIMEZONE
TZID:America/Los_Angeles
BEGIN:STANDARD
TZNAME:PST
DTSTART:20251102T020000
TZOFFSETFROM:-0700
TZOFFSETTO:-0800
RDATE:20261101T020000
END:STANDARD
BEGIN:DAYLIGHT
TZNAME:PDT
DTSTART:20250309T020000
TZOFFSETFROM:-0800
TZOFFSETTO:-0700
RDATE:20260308T020000
RDATE:20270314T020000
END:DAYLIGHT
END:VTIMEZONE
BEGIN:VEVENT
UID:d74680f7-688e-40fc-8db0-8179b40c27ae
DTSTAMP:20260419T163415Z
DESCRIPTION:<b>Resource Family Pre-Service Training:</b> all classes are fr
 ee of charge\; child care and light snacks provided.\n\n<b>Module 6 Course
  Objectives:</b> Grief and loss\, transitions\, vicarious trauma\, and res
 iliency.\n\n<b>When registering\, please use the unique contact informatio
 n for each participant. This information is used to verify each registrant
 's attendance.</b>
DTSTART;TZID=America/Los_Angeles:20251121T180000
DTEND;TZID=America/Los_Angeles:20251121T210000
LOCATION:Child Parent Institute | 3642 Standish Avenue\, Santa Rosa
SUMMARY:Resource Family Training Module 6
END:VEVENT
END:VCALENDAR
