BEGIN:VCALENDAR
VERSION:2.0
PRODID:-//calparents.org//NONSGML kigkonsult.se iCalcreator 2.30.10//
CALSCALE:GREGORIAN
METHOD:PUBLISH
UID:fd8ca712-9064-49e0-9551-d5de05c89f4f
X-WR-CALDESC:<b>Module 6 Course Objectives:</b> Grief and loss\, transition
 s\, vicarious trauma\, and resiliency.\n\n<b>When registering\, please use
  the unique contact information for each participant. This information is 
 used to verify each registrant's attendance.</b>
X-WR-RELCALID:4028b564c195a9e15fcb68d867fe0aec
X-WR-TIMEZONE:America/Los_Angeles
BEGIN:VTIMEZONE
TZID:America/Los_Angeles
BEGIN:STANDARD
TZNAME:PST
DTSTART:20241103T020000
TZOFFSETFROM:-0700
TZOFFSETTO:-0800
RDATE:20251102T020000
RDATE:20261101T020000
END:STANDARD
BEGIN:DAYLIGHT
TZNAME:PDT
DTSTART:20250309T020000
TZOFFSETFROM:-0800
TZOFFSETTO:-0700
RDATE:20260308T020000
RDATE:20270314T020000
END:DAYLIGHT
END:VTIMEZONE
BEGIN:VEVENT
UID:ff7c5de9-5cf0-4fe6-9153-7c5b30cf1dd0
DTSTAMP:20260419T150753Z
DESCRIPTION:<b>Module 6 Course Objectives:</b> Grief and loss\, transitions
 \, vicarious trauma\, and resiliency.\n\n<b>When registering\, please use 
 the unique contact information for each participant. This information is u
 sed to verify each registrant's attendance.</b>
DTSTART;TZID=America/Los_Angeles:20251024T180000
DTEND;TZID=America/Los_Angeles:20251024T210000
LOCATION:Virtual Training
SUMMARY:Module 6 Online
END:VEVENT
END:VCALENDAR
