BEGIN:VCALENDAR
VERSION:2.0
PRODID:-//calparents.org//NONSGML kigkonsult.se iCalcreator 2.30.10//
CALSCALE:GREGORIAN
METHOD:PUBLISH
UID:f0a04fe4-07cb-4065-8799-b982020d7342
X-WR-CALDESC:<b>Capacitación De La Familia De Recursos:</b> todas las clase
 s son gratis\; cuidado de niños y comida ligera proporcionada\n\n<b>Módulo
  3:</b>Dominios del desarrollo\, SOGIE\, naturaleza vs crianza\, apego y l
 as necesidades de los niños y jóvenes en cuidado de crianza.\n\n<b>Módulo 
 4:</b> Visitas supervisadas\, límites\, castigo y disciplina\, manejo de l
 as necesidades emocionales y conductuales\, y medicación psicotrópica.\n\n
 \n<b>Al registrarse\, utilice la información de contacto única de cada par
 ticipante. Esta información se utiliza para verificar la asistencia de cad
 a inscripto.</b>
X-WR-RELCALID:b42547070416db9fee43a8b3f78ce14b
X-WR-TIMEZONE:America/Los_Angeles
BEGIN:VTIMEZONE
TZID:America/Los_Angeles
BEGIN:STANDARD
TZNAME:PST
DTSTART:20241103T020000
TZOFFSETFROM:-0700
TZOFFSETTO:-0800
RDATE:20251102T020000
RDATE:20261101T020000
END:STANDARD
BEGIN:DAYLIGHT
TZNAME:PDT
DTSTART:20250309T020000
TZOFFSETFROM:-0800
TZOFFSETTO:-0700
RDATE:20260308T020000
RDATE:20270314T020000
END:DAYLIGHT
END:VTIMEZONE
BEGIN:VEVENT
UID:12a7e018-f70a-49e9-85ab-b2583b6219bd
DTSTAMP:20260419T135132Z
DESCRIPTION:<b>Capacitación De La Familia De Recursos:</b> todas las clases
  son gratis\; cuidado de niños y comida ligera proporcionada\n\n<b>Módulo 
 3:</b>Dominios del desarrollo\, SOGIE\, naturaleza vs crianza\, apego y la
 s necesidades de los niños y jóvenes en cuidado de crianza.\n\n<b>Módulo 4
 :</b> Visitas supervisadas\, límites\, castigo y disciplina\, manejo de la
 s necesidades emocionales y conductuales\, y medicación psicotrópica.\n\n
 \n<b>Al registrarse\, utilice la información de contacto única de cada par
 ticipante. Esta información se utiliza para verificar la asistencia de cad
 a inscripto.</b>
DTSTART;TZID=America/Los_Angeles:20250913T090000
DTEND;TZID=America/Los_Angeles:20250913T150000
LOCATION:Child Parent Institute | 3642 Standish Avenue\, Santa Rosa
SUMMARY:Familia de Recursos- Módulos 3 y 4
END:VEVENT
END:VCALENDAR
