BEGIN:VCALENDAR
VERSION:2.0
PRODID:-//calparents.org//NONSGML kigkonsult.se iCalcreator 2.30.10//
CALSCALE:GREGORIAN
METHOD:PUBLISH
UID:40e79258-7800-4a9f-b60a-6d0d718b1a85
X-WR-CALDESC:<b>Resource Family Pre-Service Training:</b> all classes are f
 ree of charge\; child care and light snacks provided.\n\n<b>Module 3 Cours
 e Objectives:</b> Developmental domains\, SOGIE\, Nature vs Nurture\, atta
 chment\, and the needs of children and youth in foster care.\n\n<b>When re
 gistering\, please use the unique contact information for each participant
 . This information is used to verify each registrants attendance.</b>
X-WR-RELCALID:a9f70d6fa3e5fae2801834b4a3c9a3f9
X-WR-TIMEZONE:America/Los_Angeles
BEGIN:VTIMEZONE
TZID:America/Los_Angeles
BEGIN:STANDARD
TZNAME:PST
DTSTART:20241103T020000
TZOFFSETFROM:-0700
TZOFFSETTO:-0800
RDATE:20251102T020000
RDATE:20261101T020000
END:STANDARD
BEGIN:DAYLIGHT
TZNAME:PDT
DTSTART:20250309T020000
TZOFFSETFROM:-0800
TZOFFSETTO:-0700
RDATE:20260308T020000
END:DAYLIGHT
END:VTIMEZONE
BEGIN:VEVENT
UID:7b734d84-8ec9-41b4-8bc2-85c144b7ffa9
DTSTAMP:20260419T121440Z
DESCRIPTION:<b>Resource Family Pre-Service Training:</b> all classes are fr
 ee of charge\; child care and light snacks provided.\n\n<b>Module 3 Course
  Objectives:</b> Developmental domains\, SOGIE\, Nature vs Nurture\, attac
 hment\, and the needs of children and youth in foster care.\n\n<b>When reg
 istering\, please use the unique contact information for each participant.
  This information is used to verify each registrants attendance.</b>
DTSTART;TZID=America/Los_Angeles:20250818T180000
DTEND;TZID=America/Los_Angeles:20250818T210000
LOCATION:Child Parent Institute | 3642 Standish Avenue\, Santa Rosa
SUMMARY:Resource Family Training Module 3
END:VEVENT
END:VCALENDAR
