BEGIN:VCALENDAR
VERSION:2.0
PRODID:-//calparents.org//NONSGML kigkonsult.se iCalcreator 2.30.10//
CALSCALE:GREGORIAN
METHOD:PUBLISH
UID:1bde8bae-e090-4db4-aa0c-cdda578f3788
X-WR-CALDESC:<b>Resource Family Pre-Service Training:</b> all classes are f
 ree of charge\; child care and light snacks provided.\n\n<b>Module 1 Cours
 e Objectives:</b> resource family approval\, child welfare services\, safe
 ty\, permanency and well-being\, and concurrent planning.\n\n<b>When regis
 tering\, please use the unique contact information for each participant. T
 his information is used to verify each registrants attendance.</b>
X-WR-RELCALID:08cbdf2d6ba5fb9d59ad46c107c9f317
X-WR-TIMEZONE:America/Los_Angeles
BEGIN:VTIMEZONE
TZID:America/Los_Angeles
BEGIN:STANDARD
TZNAME:PST
DTSTART:20241103T020000
TZOFFSETFROM:-0700
TZOFFSETTO:-0800
RDATE:20251102T020000
RDATE:20261101T020000
END:STANDARD
BEGIN:DAYLIGHT
TZNAME:PDT
DTSTART:20250309T020000
TZOFFSETFROM:-0800
TZOFFSETTO:-0700
RDATE:20260308T020000
END:DAYLIGHT
END:VTIMEZONE
BEGIN:VEVENT
UID:da5547ed-adcb-4a12-8dcd-9c7931e63dc3
DTSTAMP:20260419T121858Z
DESCRIPTION:<b>Resource Family Pre-Service Training:</b> all classes are fr
 ee of charge\; child care and light snacks provided.\n\n<b>Module 1 Course
  Objectives:</b> resource family approval\, child welfare services\, safet
 y\, permanency and well-being\, and concurrent planning.\n\n<b>When regist
 ering\, please use the unique contact information for each participant. Th
 is information is used to verify each registrants attendance.</b>
DTSTART;TZID=America/Los_Angeles:20250811T180000
DTEND;TZID=America/Los_Angeles:20250811T210000
LOCATION:Child Parent Institute | 3642 Standish Avenue\, Santa Rosa
SUMMARY:Resource Family Training Module 1
END:VEVENT
END:VCALENDAR
