BEGIN:VCALENDAR
VERSION:2.0
PRODID:-//calparents.org//NONSGML kigkonsult.se iCalcreator 2.30.10//
CALSCALE:GREGORIAN
METHOD:PUBLISH
UID:962c1e1b-11be-40b7-bb04-9e440c4f0bb0
X-WR-CALDESC:<b>Resource Family Pre-Service Training:</b> all classes are f
 ree of charge\; child care and light snacks provided.\n\n<b>Module 6 Cours
 e Objectives:</b> grief and loss\, transitions\, vicarious trauma\, and re
 siliency.\n\n<b>When registering\, please use the unique contact informati
 on for each participant. This information is used to verify each registran
 ts attendance.</b>
X-WR-RELCALID:e9b51a77cb7c7ac670a478f7218538d5
X-WR-TIMEZONE:America/Los_Angeles
BEGIN:VTIMEZONE
TZID:America/Los_Angeles
BEGIN:STANDARD
TZNAME:PST
DTSTART:20231105T020000
TZOFFSETFROM:-0700
TZOFFSETTO:-0800
RDATE:20241103T020000
END:STANDARD
BEGIN:DAYLIGHT
TZNAME:PDT
DTSTART:20230312T020000
TZOFFSETFROM:-0800
TZOFFSETTO:-0700
RDATE:20240310T020000
RDATE:20250309T020000
END:DAYLIGHT
END:VTIMEZONE
BEGIN:VEVENT
UID:c30944e5-72dc-4fcd-93fc-ce5e1166eda3
DTSTAMP:20260419T115024Z
DESCRIPTION:<b>Resource Family Pre-Service Training:</b> all classes are fr
 ee of charge\; child care and light snacks provided.\n\n<b>Module 6 Course
  Objectives:</b> grief and loss\, transitions\, vicarious trauma\, and res
 iliency.\n\n<b>When registering\, please use the unique contact informatio
 n for each participant. This information is used to verify each registrant
 s attendance.</b>
DTSTART;TZID=America/Los_Angeles:20240125T180000
DTEND;TZID=America/Los_Angeles:20240125T210000
LOCATION:Child Parent Institute | 3642 Standish Avenue\, Santa Rosa
SUMMARY:Resource Family Training Module 6
END:VEVENT
END:VCALENDAR
