BEGIN:VCALENDAR
VERSION:2.0
PRODID:-//calparents.org//NONSGML kigkonsult.se iCalcreator 2.30.10//
CALSCALE:GREGORIAN
METHOD:PUBLISH
UID:fb2e8c40-bde1-43eb-8947-aeef1ac69ee3
X-WR-CALDESC:<b>Resource Family Pre-Service Training:</b> all classes are f
 ree of charge\; child care and light snacks provided.\n\n<b>Module 4 Cours
 e Objectives:</b> boundaries\, punishment vs discipline\, managing emotion
 al and behavioral needs\, and psychotropic medication.\n\n<b>When register
 ing\, please use the unique contact information for each participant. This
  information is used to verify each registrants attendance.</b>
X-WR-RELCALID:7b9ed5b8d10a6c9d33b48e04f78e40d8
X-WR-TIMEZONE:America/Los_Angeles
BEGIN:VTIMEZONE
TZID:America/Los_Angeles
BEGIN:STANDARD
TZNAME:PST
DTSTART:20231105T020000
TZOFFSETFROM:-0700
TZOFFSETTO:-0800
RDATE:20241103T020000
END:STANDARD
BEGIN:DAYLIGHT
TZNAME:PDT
DTSTART:20230312T020000
TZOFFSETFROM:-0800
TZOFFSETTO:-0700
RDATE:20240310T020000
RDATE:20250309T020000
END:DAYLIGHT
END:VTIMEZONE
BEGIN:VEVENT
UID:c9c95bc4-1eb0-42c0-b81d-47235d2ff2f4
DTSTAMP:20260419T142116Z
DESCRIPTION:<b>Resource Family Pre-Service Training:</b> all classes are fr
 ee of charge\; child care and light snacks provided.\n\n<b>Module 4 Course
  Objectives:</b> boundaries\, punishment vs discipline\, managing emotiona
 l and behavioral needs\, and psychotropic medication.\n\n<b>When registeri
 ng\, please use the unique contact information for each participant. This 
 information is used to verify each registrants attendance.</b>
DTSTART;TZID=America/Los_Angeles:20231116T180000
DTEND;TZID=America/Los_Angeles:20231116T210000
LOCATION:Child Parent Institute | 3642 Standish Avenue\, Santa Rosa
SUMMARY:Resource Family Training Module 4
END:VEVENT
END:VCALENDAR
