BEGIN:VCALENDAR
VERSION:2.0
PRODID:-//calparents.org//NONSGML kigkonsult.se iCalcreator 2.30.10//
CALSCALE:GREGORIAN
METHOD:PUBLISH
UID:61a7b31f-1b01-44eb-86a9-fe2160c2f5ac
X-WR-CALDESC:<b>Resource Family Pre-Service Training:</b> all classes are f
 ree of charge\; child care and light snacks provided.\n\n<b>Module 2 Cours
 e Objectives:</b> the members of the professional team\, cultural humility
 \, personal rights\, prudent parent standard\, confidentiality\, and visit
 ation.\n\n<b>When registering\, please use the unique contact information 
 for each participant. This information is used to verify each registrants 
 attendance.</b>
X-WR-RELCALID:d134677a48ed2ca46d7cfea8c2ad8055
X-WR-TIMEZONE:America/Los_Angeles
BEGIN:VTIMEZONE
TZID:America/Los_Angeles
BEGIN:STANDARD
TZNAME:PST
DTSTART:20231105T020000
TZOFFSETFROM:-0700
TZOFFSETTO:-0800
RDATE:20241103T020000
END:STANDARD
BEGIN:DAYLIGHT
TZNAME:PDT
DTSTART:20230312T020000
TZOFFSETFROM:-0800
TZOFFSETTO:-0700
RDATE:20240310T020000
RDATE:20250309T020000
END:DAYLIGHT
END:VTIMEZONE
BEGIN:VEVENT
UID:6a1eb7fd-761d-4653-8a7d-b152b8011241
DTSTAMP:20260419T142855Z
DESCRIPTION:<b>Resource Family Pre-Service Training:</b> all classes are fr
 ee of charge\; child care and light snacks provided.\n\n<b>Module 2 Course
  Objectives:</b> the members of the professional team\, cultural humility\
 , personal rights\, prudent parent standard\, confidentiality\, and visita
 tion.\n\n<b>When registering\, please use the unique contact information f
 or each participant. This information is used to verify each registrants a
 ttendance.</b>
DTSTART;TZID=America/Los_Angeles:20231109T180000
DTEND;TZID=America/Los_Angeles:20231109T210000
LOCATION:Child Parent Institute | 3642 Standish Avenue\, Santa Rosa
SUMMARY:Resource Family Training Module 2
END:VEVENT
END:VCALENDAR
