BEGIN:VCALENDAR
VERSION:2.0
PRODID:-//calparents.org//NONSGML kigkonsult.se iCalcreator 2.30.10//
CALSCALE:GREGORIAN
METHOD:PUBLISH
UID:c037b339-a8b9-49b7-b1df-1e7bd979be16
X-WR-CALDESC:<b>Module 5 Course Objectives:</b> types of childhood trauma\,
  traumatic stress response cycle\, understanding trauma triggers\, and the
  impact of trauma exposure.\n\n\n<b>When registering\, please use the uniq
 ue contact information for each participant. This information is used to v
 erify each registrants attendance.</b>
X-WR-RELCALID:8bcd56b62fe713cf37a94cda39243cfc
X-WR-TIMEZONE:America/Los_Angeles
BEGIN:VTIMEZONE
TZID:America/Los_Angeles
BEGIN:STANDARD
TZNAME:PST
DTSTART:20221106T020000
TZOFFSETFROM:-0700
TZOFFSETTO:-0800
RDATE:20231105T020000
RDATE:20241103T020000
END:STANDARD
BEGIN:DAYLIGHT
TZNAME:PDT
DTSTART:20230312T020000
TZOFFSETFROM:-0800
TZOFFSETTO:-0700
RDATE:20240310T020000
RDATE:20250309T020000
END:DAYLIGHT
END:VTIMEZONE
BEGIN:VEVENT
UID:785b6b53-99a9-4fb5-95d0-51ce2def61a2
DTSTAMP:20260419T154448Z
DESCRIPTION:<b>Module 5 Course Objectives:</b> types of childhood trauma\, 
 traumatic stress response cycle\, understanding trauma triggers\, and the 
 impact of trauma exposure.\n\n\n<b>When registering\, please use the uniqu
 e contact information for each participant. This information is used to ve
 rify each registrants attendance.</b>
DTSTART;TZID=America/Los_Angeles:20231024T173000
DTEND;TZID=America/Los_Angeles:20231024T203000
LOCATION:Virtual Training
SUMMARY:Module 5 Online
END:VEVENT
END:VCALENDAR
