BEGIN:VCALENDAR
VERSION:2.0
PRODID:-//calparents.org//NONSGML kigkonsult.se iCalcreator 2.30.10//
CALSCALE:GREGORIAN
METHOD:PUBLISH
UID:0abf52d6-dfa1-4a63-9057-563ccc9bf44d
X-WR-CALDESC:<b>Resource Family Pre-Service Training:</b> all classes are f
 ree of charge\; child care and light snacks provided.\n\n<b>Module 1 Cours
 e Objectives:</b> resource family approval\, child welfare services\, safe
 ty\, permanency and well-being\, and concurrent planning.\n\n<b>When regis
 tering\, please use the unique contact information for each participant. T
 his information is used to verify each registrants attendance.</b>
X-WR-RELCALID:635491492fc8983e9010b78f30e6c803
X-WR-TIMEZONE:America/Los_Angeles
BEGIN:VTIMEZONE
TZID:America/Los_Angeles
BEGIN:STANDARD
TZNAME:PST
DTSTART:20221106T020000
TZOFFSETFROM:-0700
TZOFFSETTO:-0800
RDATE:20231105T020000
RDATE:20241103T020000
END:STANDARD
BEGIN:DAYLIGHT
TZNAME:PDT
DTSTART:20230312T020000
TZOFFSETFROM:-0800
TZOFFSETTO:-0700
RDATE:20240310T020000
RDATE:20250309T020000
END:DAYLIGHT
END:VTIMEZONE
BEGIN:VEVENT
UID:cdd97ad5-5bea-494e-9fee-de043c31040f
DTSTAMP:20260419T171120Z
DESCRIPTION:<b>Resource Family Pre-Service Training:</b> all classes are fr
 ee of charge\; child care and light snacks provided.\n\n<b>Module 1 Course
  Objectives:</b> resource family approval\, child welfare services\, safet
 y\, permanency and well-being\, and concurrent planning.\n\n<b>When regist
 ering\, please use the unique contact information for each participant. Th
 is information is used to verify each registrants attendance.</b>
DTSTART;TZID=America/Los_Angeles:20230912T180000
DTEND;TZID=America/Los_Angeles:20230912T210000
LOCATION:Child Parent Institute | 3642 Standish Avenue\, Santa Rosa
SUMMARY:Resource Family Training Module 1
END:VEVENT
END:VCALENDAR
