BEGIN:VCALENDAR
VERSION:2.0
PRODID:-//calparents.org//NONSGML kigkonsult.se iCalcreator 2.30.10//
CALSCALE:GREGORIAN
METHOD:PUBLISH
UID:df1c3ca5-e7d4-451a-9908-f4df27dd74cf
X-WR-CALDESC:<b>Resource Family Pre-Service Training:</b> all classes are f
 ree of charge\; child care and a light lunch provided.\n\n<b>Module 1 Cour
 se Objectives:</b> resource family approval\, child welfare services\, saf
 ety\, permanency and well-being\, and concurrent planning.\n\n<b>Module 2 
 Course Objectives:</b> the members of the professional team\, cultural hum
 ility\, personal rights\, prudent parent standard\, confidentiality\, and 
 visitation.\n\n<b>When registering\, please use the unique contact informa
 tion for each participant. This information is used to verify each registr
 ants attendance.</b>
X-WR-RELCALID:ac10cd1849a4c32fb389d5b984f8eddc
X-WR-TIMEZONE:America/Los_Angeles
BEGIN:VTIMEZONE
TZID:America/Los_Angeles
BEGIN:STANDARD
TZNAME:PST
DTSTART:20221106T020000
TZOFFSETFROM:-0700
TZOFFSETTO:-0800
RDATE:20231105T020000
RDATE:20241103T020000
END:STANDARD
BEGIN:DAYLIGHT
TZNAME:PDT
DTSTART:20230312T020000
TZOFFSETFROM:-0800
TZOFFSETTO:-0700
RDATE:20240310T020000
END:DAYLIGHT
END:VTIMEZONE
BEGIN:VEVENT
UID:6aa4a441-ebbd-453d-9e00-53f7b703c477
DTSTAMP:20260419T183717Z
DESCRIPTION:<b>Resource Family Pre-Service Training:</b> all classes are fr
 ee of charge\; child care and a light lunch provided.\n\n<b>Module 1 Cours
 e Objectives:</b> resource family approval\, child welfare services\, safe
 ty\, permanency and well-being\, and concurrent planning.\n\n<b>Module 2 C
 ourse Objectives:</b> the members of the professional team\, cultural humi
 lity\, personal rights\, prudent parent standard\, confidentiality\, and v
 isitation.\n\n<b>When registering\, please use the unique contact informat
 ion for each participant. This information is used to verify each registra
 nts attendance.</b>
DTSTART;TZID=America/Los_Angeles:20230812T090000
DTEND;TZID=America/Los_Angeles:20230812T153000
LOCATION:Child Parent Institute | 3642 Standish Avenue\, Santa Rosa
SUMMARY:Resource Family Training Modules 1 & 2
END:VEVENT
END:VCALENDAR
