BEGIN:VCALENDAR
VERSION:2.0
PRODID:-//calparents.org//NONSGML kigkonsult.se iCalcreator 2.30.10//
CALSCALE:GREGORIAN
METHOD:PUBLISH
UID:96b8f57e-57aa-45d0-a6d4-f43531afec56
X-WR-CALDESC:<b>Resource Family Pre-Service Training:</b> all classes are f
 ree of charge\; child care and light snacks provided.\n\n<b>Module 4 Cours
 e Objectives:</b> boundaries\, punishment vs discipline\, managing emotion
 al and behavioral needs\, and psychotropic medication.\n\n<b>When register
 ing\, please use the unique contact information for each participant. This
  information is used to verify each registrants attendance.</b>
X-WR-RELCALID:07feaa814226e032a63b986cb34992f0
X-WR-TIMEZONE:America/Los_Angeles
BEGIN:VTIMEZONE
TZID:America/Los_Angeles
BEGIN:STANDARD
TZNAME:PST
DTSTART:20221106T020000
TZOFFSETFROM:-0700
TZOFFSETTO:-0800
RDATE:20231105T020000
RDATE:20241103T020000
END:STANDARD
BEGIN:DAYLIGHT
TZNAME:PDT
DTSTART:20230312T020000
TZOFFSETFROM:-0800
TZOFFSETTO:-0700
RDATE:20240310T020000
END:DAYLIGHT
END:VTIMEZONE
BEGIN:VEVENT
UID:38031844-137b-4aa2-90ac-65941c8780d8
DTSTAMP:20260419T201045Z
DESCRIPTION:<b>Resource Family Pre-Service Training:</b> all classes are fr
 ee of charge\; child care and light snacks provided.\n\n<b>Module 4 Course
  Objectives:</b> boundaries\, punishment vs discipline\, managing emotiona
 l and behavioral needs\, and psychotropic medication.\n\n<b>When registeri
 ng\, please use the unique contact information for each participant. This 
 information is used to verify each registrants attendance.</b>
DTSTART;TZID=America/Los_Angeles:20230720T180000
DTEND;TZID=America/Los_Angeles:20230720T210000
LOCATION:Child Parent Institute | 3642 Standish Avenue\, Santa Rosa
SUMMARY:Resource Family Training Module 4
END:VEVENT
END:VCALENDAR
