BEGIN:VCALENDAR
VERSION:2.0
PRODID:-//calparents.org//NONSGML kigkonsult.se iCalcreator 2.30.10//
CALSCALE:GREGORIAN
METHOD:PUBLISH
UID:f4c9f7b8-8b57-43db-b93d-7f5c12bc0a4b
X-WR-CALDESC:<b>Module 4 Course Objectives:</b> supervised visitations\, bo
 undaries\, punishment vs discipline\, managing emotional and behavioral ne
 eds\, and psychotropic medication.\n\n<b>When registering\, please use the
  unique contact information for each participant. This information is used
  to verify each registrants attendance.</b>
X-WR-RELCALID:d90692f6e7e67ffb3537c71a7511b6b1
X-WR-TIMEZONE:America/Los_Angeles
BEGIN:VTIMEZONE
TZID:America/Los_Angeles
BEGIN:STANDARD
TZNAME:PST
DTSTART:20221106T020000
TZOFFSETFROM:-0700
TZOFFSETTO:-0800
RDATE:20231105T020000
RDATE:20241103T020000
END:STANDARD
BEGIN:DAYLIGHT
TZNAME:PDT
DTSTART:20230312T020000
TZOFFSETFROM:-0800
TZOFFSETTO:-0700
RDATE:20240310T020000
END:DAYLIGHT
END:VTIMEZONE
BEGIN:VEVENT
UID:66b62b03-58a8-4f25-a015-6bf145e4cffd
DTSTAMP:20260419T214103Z
DESCRIPTION:<b>Module 4 Course Objectives:</b> supervised visitations\, bou
 ndaries\, punishment vs discipline\, managing emotional and behavioral nee
 ds\, and psychotropic medication.\n\n<b>When registering\, please use the 
 unique contact information for each participant. This information is used 
 to verify each registrants attendance.</b>
DTSTART;TZID=America/Los_Angeles:20230615T173000
DTEND;TZID=America/Los_Angeles:20230615T203000
LOCATION:Virtual Training
SUMMARY:Module 4 Online
END:VEVENT
END:VCALENDAR
