BEGIN:VCALENDAR
VERSION:2.0
PRODID:-//calparents.org//NONSGML kigkonsult.se iCalcreator 2.30.10//
CALSCALE:GREGORIAN
METHOD:PUBLISH
UID:0409e25b-b116-445b-96b4-e700a7fb9e4e
X-WR-CALDESC:<b>Resource Family Pre-Service Training:</b> all classes are f
 ree of charge\; child care and a light lunch provided.\n\n<b>Module 3 Cour
 se Objectives:</b> developmental domains\, SOGIE\, Nature vs Nurture\, att
 achment\, and the needs of children and youth in foster care.\n\n<b>Module
  4 Course Objectives:</b> boundaries\, punishment vs discipline\, managing
  emotional and behavioral needs\, and psychotropic medication.\n\n<b>When 
 registering\, please use the unique contact information for each participa
 nt. This information is used to verify each registrants attendance.</b>
X-WR-RELCALID:b3a017430b715a1867858685b363da79
X-WR-TIMEZONE:America/Los_Angeles
BEGIN:VTIMEZONE
TZID:America/Los_Angeles
BEGIN:STANDARD
TZNAME:PST
DTSTART:20221106T020000
TZOFFSETFROM:-0700
TZOFFSETTO:-0800
RDATE:20231105T020000
RDATE:20241103T020000
END:STANDARD
BEGIN:DAYLIGHT
TZNAME:PDT
DTSTART:20230312T020000
TZOFFSETFROM:-0800
TZOFFSETTO:-0700
RDATE:20240310T020000
END:DAYLIGHT
END:VTIMEZONE
BEGIN:VEVENT
UID:c71c1b4c-1967-445d-a8c6-7ac08666819c
DTSTAMP:20260419T213212Z
DESCRIPTION:<b>Resource Family Pre-Service Training:</b> all classes are fr
 ee of charge\; child care and a light lunch provided.\n\n<b>Module 3 Cours
 e Objectives:</b> developmental domains\, SOGIE\, Nature vs Nurture\, atta
 chment\, and the needs of children and youth in foster care.\n\n<b>Module 
 4 Course Objectives:</b> boundaries\, punishment vs discipline\, managing 
 emotional and behavioral needs\, and psychotropic medication.\n\n<b>When r
 egistering\, please use the unique contact information for each participan
 t. This information is used to verify each registrants attendance.</b>
DTSTART;TZID=America/Los_Angeles:20230610T090000
DTEND;TZID=America/Los_Angeles:20230610T153000
LOCATION:Child Parent Institute | 3642 Standish Avenue\, Santa Rosa
SUMMARY:Resource Family Training Modules 3 & 4
END:VEVENT
END:VCALENDAR
