BEGIN:VCALENDAR
VERSION:2.0
PRODID:-//calparents.org//NONSGML kigkonsult.se iCalcreator 2.30.10//
CALSCALE:GREGORIAN
METHOD:PUBLISH
UID:01bb45b9-8bad-451c-8bcd-c743d6a740cb
X-WR-CALDESC:<b>Resource Family Pre-Service Training:</b> all classes are f
 ree of charge\; child care and light snacks provided.\n\n<b>Module 5 Cours
 e Objectives:</b> types of childhood trauma\, traumatic stress response cy
 cle\, understanding trauma triggers\, and the impact of trauma exposure.\n
 \n<b>When registering\, please use the unique contact information for each
  participant. This information is used to verify each registrants attendan
 ce.</b>
X-WR-RELCALID:4cd9606de2c25f49b1a291a35570b3e8
X-WR-TIMEZONE:America/Los_Angeles
BEGIN:VTIMEZONE
TZID:America/Los_Angeles
BEGIN:STANDARD
TZNAME:PST
DTSTART:20221106T020000
TZOFFSETFROM:-0700
TZOFFSETTO:-0800
RDATE:20231105T020000
RDATE:20241103T020000
END:STANDARD
BEGIN:DAYLIGHT
TZNAME:PDT
DTSTART:20230312T020000
TZOFFSETFROM:-0800
TZOFFSETTO:-0700
RDATE:20240310T020000
END:DAYLIGHT
END:VTIMEZONE
BEGIN:VEVENT
UID:277ca458-4cb3-438b-af4b-b47598058e0a
DTSTAMP:20260419T225641Z
DESCRIPTION:<b>Resource Family Pre-Service Training:</b> all classes are fr
 ee of charge\; child care and light snacks provided.\n\n<b>Module 5 Course
  Objectives:</b> types of childhood trauma\, traumatic stress response cyc
 le\, understanding trauma triggers\, and the impact of trauma exposure.\n
 \n<b>When registering\, please use the unique contact information for each
  participant. This information is used to verify each registrants attendan
 ce.</b>
DTSTART;TZID=America/Los_Angeles:20230523T180000
DTEND;TZID=America/Los_Angeles:20230523T210000
LOCATION:Child Parent Institute | 3642 Standish Avenue\, Santa Rosa
SUMMARY:Resource Family Training Module 5
END:VEVENT
END:VCALENDAR
