BEGIN:VCALENDAR
VERSION:2.0
PRODID:-//calparents.org//NONSGML kigkonsult.se iCalcreator 2.30.10//
CALSCALE:GREGORIAN
METHOD:PUBLISH
UID:0316f4ef-8313-4fa7-8862-e62795414a4f
X-WR-CALDESC:<b>Resource Family Pre-Service Training:</b> all classes are f
 ree of charge\; child care and a light lunch provided.\n\n<b>Module 1 Cour
 se Objectives:</b> resource family approval\, child welfare services\, saf
 ety\, permanency and well-being\, and concurrent planning.\n\n<b>Module 2 
 Course Objectives:</b> the members of the professional team\, cultural hum
 ility\, personal rights\, prudent parent standard\, confidentiality\, and 
 visitation.\n\n<b>When registering\, please use the unique contact informa
 tion for each participant. This information is used to verify each registr
 ants attendance.</b>
X-WR-RELCALID:afcfb790253e3990f6d6413969c0315c
X-WR-TIMEZONE:America/Los_Angeles
BEGIN:VTIMEZONE
TZID:America/Los_Angeles
BEGIN:STANDARD
TZNAME:PST
DTSTART:20221106T020000
TZOFFSETFROM:-0700
TZOFFSETTO:-0800
RDATE:20231105T020000
RDATE:20241103T020000
END:STANDARD
BEGIN:DAYLIGHT
TZNAME:PDT
DTSTART:20230312T020000
TZOFFSETFROM:-0800
TZOFFSETTO:-0700
RDATE:20240310T020000
END:DAYLIGHT
END:VTIMEZONE
BEGIN:VEVENT
UID:80e4a157-df07-448c-9567-21c549d943d0
DTSTAMP:20260419T225011Z
DESCRIPTION:<b>Resource Family Pre-Service Training:</b> all classes are fr
 ee of charge\; child care and a light lunch provided.\n\n<b>Module 1 Cours
 e Objectives:</b> resource family approval\, child welfare services\, safe
 ty\, permanency and well-being\, and concurrent planning.\n\n<b>Module 2 C
 ourse Objectives:</b> the members of the professional team\, cultural humi
 lity\, personal rights\, prudent parent standard\, confidentiality\, and v
 isitation.\n\n<b>When registering\, please use the unique contact informat
 ion for each participant. This information is used to verify each registra
 nts attendance.</b>
DTSTART;TZID=America/Los_Angeles:20230513T090000
DTEND;TZID=America/Los_Angeles:20230513T153000
LOCATION:Child Parent Institute | 3642 Standish Avenue\, Santa Rosa
SUMMARY:Resource Family Training Modules 1 & 2
END:VEVENT
END:VCALENDAR
