BEGIN:VCALENDAR
VERSION:2.0
PRODID:-//calparents.org//NONSGML kigkonsult.se iCalcreator 2.30.10//
CALSCALE:GREGORIAN
METHOD:PUBLISH
UID:0334ed55-6156-47a7-a2e6-7644ecd52acb
X-WR-CALDESC:<b>Preguntar • Persuadir • Referir\nCAPACITACIÓN DE PREVENCIÓN
  DE SUICIDIO </b>\n\nAl igual que RCP (Resucitación Cardiopulmonar)\, PPR 
 es una respuesta de emergencia para alguien en crisis y puede salvar vidas
 .\n\nLos estudiantes aprenderán las señales de alerta de angustia mental y
  una crisis de suicidio potencial. Aprenderán cómo reconocer a una persona
  que está en riesgo de suicidio\, cómo intervenir\, y cómo referir a esta 
 persona a los recursos apropiados.\nPPR es enseñado por proveedores capaci
 tados en salud mental quienes podrán apoyar y contestar las preguntas de l
 os estudiantes.\nPPR es apropiado para jóvenes de séptimo grado y mayores.
  También se recomienda para cualquier persona interesada en eliminar el su
 icidio juvenil\, incluyendo miembros de la comunidad\, padres\, y personal
  escolar.\n
X-WR-RELCALID:ac7e0cdae87d126d8772d534544626cd
X-WR-TIMEZONE:America/Los_Angeles
BEGIN:VTIMEZONE
TZID:America/Los_Angeles
BEGIN:STANDARD
TZNAME:PST
DTSTART:20221106T020000
TZOFFSETFROM:-0700
TZOFFSETTO:-0800
RDATE:20231105T020000
END:STANDARD
BEGIN:DAYLIGHT
TZNAME:PDT
DTSTART:20230312T020000
TZOFFSETFROM:-0800
TZOFFSETTO:-0700
RDATE:20240310T020000
END:DAYLIGHT
END:VTIMEZONE
BEGIN:VEVENT
UID:b292ad88-a1ab-4438-9ecf-a3b7377bfb6b
DTSTAMP:20260419T235202Z
DESCRIPTION:<b>Preguntar • Persuadir • Referir\nCAPACITACIÓN DE PREVENCIÓN 
 DE SUICIDIO </b>\n\nAl igual que RCP (Resucitación Cardiopulmonar)\, PPR e
 s una respuesta de emergencia para alguien en crisis y puede salvar vidas.
 \n\nLos estudiantes aprenderán las señales de alerta de angustia mental y 
 una crisis de suicidio potencial. Aprenderán cómo reconocer a una persona 
 que está en riesgo de suicidio\, cómo intervenir\, y cómo referir a esta p
 ersona a los recursos apropiados.\nPPR es enseñado por proveedores capacit
 ados en salud mental quienes podrán apoyar y contestar las preguntas de lo
 s estudiantes.\nPPR es apropiado para jóvenes de séptimo grado y mayores. 
 También se recomienda para cualquier persona interesada en eliminar el sui
 cidio juvenil\, incluyendo miembros de la comunidad\, padres\, y personal 
 escolar.\n
DTSTART;TZID=America/Los_Angeles:20230426T090000
DTEND;TZID=America/Los_Angeles:20230426T110000
LOCATION:
SUMMARY:Capacitación en Prevención del Suicidio
END:VEVENT
END:VCALENDAR
