BEGIN:VCALENDAR
VERSION:2.0
PRODID:-//calparents.org//NONSGML kigkonsult.se iCalcreator 2.30.10//
CALSCALE:GREGORIAN
METHOD:PUBLISH
UID:a8e4d3c0-c9a4-42eb-90db-8e119e93d97a
X-WR-CALDESC:<b>Question • Persuade • Refer\nSUICIDE PREVENTION TRAINING</b
 >\n\nJust like CPR\, QPR is an emergency response to someone in crisis and
  can save lives. QPR teaches life saving skills in one class period. \n\nS
 tudents will learn the warning signs of mental distress and a potential su
 icide crisis. They will learn to recognize someone at risk for suicide\, h
 ow to intervene\, and how to connect that person to appropriate resources.
  QPR is taught by trained mental health providers who are able to support 
 and answer student questions. QPR is appropriate for youth 7th grade and o
 lder. It is also recommended for anyone interested in eliminating youth su
 icide including community members\, parents and school staff. \n\nThis eve
 nt will be held in-person.
X-WR-RELCALID:4dfa51058e71622b9f9a7e31f771ed41
X-WR-TIMEZONE:America/Los_Angeles
BEGIN:VTIMEZONE
TZID:America/Los_Angeles
BEGIN:STANDARD
TZNAME:PST
DTSTART:20221106T020000
TZOFFSETFROM:-0700
TZOFFSETTO:-0800
RDATE:20231105T020000
END:STANDARD
BEGIN:DAYLIGHT
TZNAME:PDT
DTSTART:20230312T020000
TZOFFSETFROM:-0800
TZOFFSETTO:-0700
RDATE:20240310T020000
END:DAYLIGHT
END:VTIMEZONE
BEGIN:VEVENT
UID:08231f98-fc9e-40d3-a2c3-acd9faf0b154
DTSTAMP:20260419T235202Z
DESCRIPTION:<b>Question • Persuade • Refer\nSUICIDE PREVENTION TRAINING</b>
 \n\nJust like CPR\, QPR is an emergency response to someone in crisis and 
 can save lives. QPR teaches life saving skills in one class period. \n\nSt
 udents will learn the warning signs of mental distress and a potential sui
 cide crisis. They will learn to recognize someone at risk for suicide\, ho
 w to intervene\, and how to connect that person to appropriate resources. 
 QPR is taught by trained mental health providers who are able to support a
 nd answer student questions. QPR is appropriate for youth 7th grade and ol
 der. It is also recommended for anyone interested in eliminating youth sui
 cide including community members\, parents and school staff. \n\nThis even
 t will be held in-person.
DTSTART;TZID=America/Los_Angeles:20230425T090000
DTEND;TZID=America/Los_Angeles:20230425T110000
LOCATION:
SUMMARY:Suicide Prevention Training
END:VEVENT
END:VCALENDAR
