BEGIN:VCALENDAR
VERSION:2.0
PRODID:-//calparents.org//NONSGML kigkonsult.se iCalcreator 2.30.10//
CALSCALE:GREGORIAN
METHOD:PUBLISH
UID:b3f7de8c-5b34-43d9-af8e-1ad900175520
X-WR-CALDESC:<b>Capacitación De La Familia De Recursos:</b> todas las clase
 s son gratis\n\n<b>Módulo 2:</b> los miembros del equipo profesional\, la 
 humildad cultural\, los derechos personales\, el estándar de padres pruden
 te\, la confidencialidad y las visitas.\n\n<b>Al registrarse\, utilice la 
 información de contacto única de cada participante. Esta información se ut
 iliza para verificar la asistencia de cada inscripto.</b>
X-WR-RELCALID:fe8d2b07369f4e364386ca77ed607ab6
X-WR-TIMEZONE:America/Los_Angeles
BEGIN:VTIMEZONE
TZID:America/Los_Angeles
BEGIN:STANDARD
TZNAME:PST
DTSTART:20221106T020000
TZOFFSETFROM:-0700
TZOFFSETTO:-0800
RDATE:20231105T020000
END:STANDARD
BEGIN:DAYLIGHT
TZNAME:PDT
DTSTART:20220313T020000
TZOFFSETFROM:-0800
TZOFFSETTO:-0700
RDATE:20230312T020000
RDATE:20240310T020000
END:DAYLIGHT
END:VTIMEZONE
BEGIN:VEVENT
UID:8ec1339c-835e-45e4-b92a-0941ff1fb881
DTSTAMP:20260420T012036Z
DESCRIPTION:<b>Capacitación De La Familia De Recursos:</b> todas las clases
  son gratis\n\n<b>Módulo 2:</b> los miembros del equipo profesional\, la h
 umildad cultural\, los derechos personales\, el estándar de padres prudent
 e\, la confidencialidad y las visitas.\n\n<b>Al registrarse\, utilice la i
 nformación de contacto única de cada participante. Esta información se uti
 liza para verificar la asistencia de cada inscripto.</b>
DTSTART;TZID=America/Los_Angeles:20230308T173000
DTEND;TZID=America/Los_Angeles:20230308T203000
LOCATION:Entrenamiento virtual
SUMMARY:Módulo 2 En Línea
END:VEVENT
END:VCALENDAR
