BEGIN:VCALENDAR
VERSION:2.0
PRODID:-//calparents.org//NONSGML kigkonsult.se iCalcreator 2.30.10//
CALSCALE:GREGORIAN
METHOD:PUBLISH
UID:bfbc73db-4a74-4fea-8589-37030e662e7b
X-WR-CALDESC:<b>Module 4 Course Objectives:</b> supervised visitations\, bo
 undaries\, punishment vs discipline\, managing emotional and behavioral ne
 eds\, and psychotropic medication.\n\n<b>When registering\, please use the
  unique contact information for each participant. This information is used
  to verify each registrants attendance.</b>
X-WR-RELCALID:9d6c1374ab533d93efd06d65b386d580
X-WR-TIMEZONE:America/Los_Angeles
BEGIN:VTIMEZONE
TZID:America/Los_Angeles
BEGIN:STANDARD
TZNAME:PST
DTSTART:20221106T020000
TZOFFSETFROM:-0700
TZOFFSETTO:-0800
RDATE:20231105T020000
END:STANDARD
BEGIN:DAYLIGHT
TZNAME:PDT
DTSTART:20220313T020000
TZOFFSETFROM:-0800
TZOFFSETTO:-0700
RDATE:20230312T020000
RDATE:20240310T020000
END:DAYLIGHT
END:VTIMEZONE
BEGIN:VEVENT
UID:59c106e5-ab77-4a8f-9512-041378be934e
DTSTAMP:20260420T024725Z
DESCRIPTION:<b>Module 4 Course Objectives:</b> supervised visitations\, bou
 ndaries\, punishment vs discipline\, managing emotional and behavioral nee
 ds\, and psychotropic medication.\n\n<b>When registering\, please use the 
 unique contact information for each participant. This information is used 
 to verify each registrants attendance.</b>
DTSTART;TZID=America/Los_Angeles:20230216T173000
DTEND;TZID=America/Los_Angeles:20230216T203000
LOCATION:Virtual Training
SUMMARY:Module 4 Online
END:VEVENT
END:VCALENDAR
