BEGIN:VCALENDAR
VERSION:2.0
PRODID:-//calparents.org//NONSGML kigkonsult.se iCalcreator 2.30.10//
CALSCALE:GREGORIAN
METHOD:PUBLISH
UID:83d98cfa-77a2-4e76-8ccc-4a387a9a5e12
X-WR-CALDESC:<b>Module 2 Course Objectives:</b> the members of the professi
 onal team\, cultural humility\, personal rights\, prudent parent standard\
 , confidentiality\, and visitation.\n\n<b>When registering\, please use th
 e unique contact information for each participant. This information is use
 d to verify each registrants attendance.</b>
X-WR-RELCALID:ebec5e202fad6469fbcf31111f13048d
X-WR-TIMEZONE:America/Los_Angeles
BEGIN:VTIMEZONE
TZID:America/Los_Angeles
BEGIN:STANDARD
TZNAME:PST
DTSTART:20221106T020000
TZOFFSETFROM:-0700
TZOFFSETTO:-0800
RDATE:20231105T020000
END:STANDARD
BEGIN:DAYLIGHT
TZNAME:PDT
DTSTART:20220313T020000
TZOFFSETFROM:-0800
TZOFFSETTO:-0700
RDATE:20230312T020000
RDATE:20240310T020000
END:DAYLIGHT
END:VTIMEZONE
BEGIN:VEVENT
UID:54975984-ac62-4c79-bf59-48c25e0ae646
DTSTAMP:20260420T024848Z
DESCRIPTION:<b>Module 2 Course Objectives:</b> the members of the professio
 nal team\, cultural humility\, personal rights\, prudent parent standard\,
  confidentiality\, and visitation.\n\n<b>When registering\, please use the
  unique contact information for each participant. This information is used
  to verify each registrants attendance.</b>
DTSTART;TZID=America/Los_Angeles:20230209T173000
DTEND;TZID=America/Los_Angeles:20230209T203000
LOCATION:Virtual Training
SUMMARY:Module 2 Online
END:VEVENT
END:VCALENDAR
