BEGIN:VCALENDAR
VERSION:2.0
PRODID:-//calparents.org//NONSGML kigkonsult.se iCalcreator 2.30.10//
CALSCALE:GREGORIAN
METHOD:PUBLISH
UID:dd7adbe0-f0f2-42b9-9507-ae2741956475
X-WR-CALDESC:<b>Capacitación De La Familia De Recursos:</b> todas las clase
 s son gratis\n\n<b>Módulo 4:</b> límites\, castigo versus disciplina\, man
 ejo de las necesidades emocionales y de comportamiento y medicación psicot
 rópica.\n\n<b>Al registrarse\, utilice la información de contacto única de
  cada participante. Esta información se utiliza para verificar la asistenc
 ia de cada inscripto.</b>
X-WR-RELCALID:e8743438132a8bd8368d5b512a042f4b
X-WR-TIMEZONE:America/Los_Angeles
BEGIN:VTIMEZONE
TZID:America/Los_Angeles
BEGIN:STANDARD
TZNAME:PST
DTSTART:20221106T020000
TZOFFSETFROM:-0700
TZOFFSETTO:-0800
RDATE:20231105T020000
END:STANDARD
BEGIN:DAYLIGHT
TZNAME:PDT
DTSTART:20220313T020000
TZOFFSETFROM:-0800
TZOFFSETTO:-0700
RDATE:20230312T020000
RDATE:20240310T020000
END:DAYLIGHT
END:VTIMEZONE
BEGIN:VEVENT
UID:36295d72-7d42-4923-bc00-eac36645dc2d
DTSTAMP:20260420T043120Z
DESCRIPTION:<b>Capacitación De La Familia De Recursos:</b> todas las clases
  son gratis\n\n<b>Módulo 4:</b> límites\, castigo versus disciplina\, mane
 jo de las necesidades emocionales y de comportamiento y medicación psicotr
 ópica.\n\n<b>Al registrarse\, utilice la información de contacto única de 
 cada participante. Esta información se utiliza para verificar la asistenci
 a de cada inscripto.</b>
DTSTART;TZID=America/Los_Angeles:20230123T173000
DTEND;TZID=America/Los_Angeles:20230123T203000
LOCATION:Entrenamiento virtual
SUMMARY:Módulo 4 En Línea
END:VEVENT
END:VCALENDAR
