BEGIN:VCALENDAR
VERSION:2.0
PRODID:-//calparents.org//NONSGML kigkonsult.se iCalcreator 2.30.10//
CALSCALE:GREGORIAN
METHOD:PUBLISH
UID:db5a4159-4961-43cc-84d5-60839c7a6cc4
X-WR-CALDESC:<b>Module 3 Course Objectives:</b> developmental domains\, SOG
 IE\, Nature vs Nurture\, attachment\, and the needs of children and youth 
 in foster care.\n\n<b>When registering\, please use the unique contact inf
 ormation for each participant. This information is used to verify each reg
 istrants attendance.</b>
X-WR-RELCALID:2da949091d6b761c5c916132a0fc7ced
X-WR-TIMEZONE:America/Los_Angeles
BEGIN:VTIMEZONE
TZID:America/Los_Angeles
BEGIN:STANDARD
TZNAME:PST
DTSTART:20221106T020000
TZOFFSETFROM:-0700
TZOFFSETTO:-0800
RDATE:20231105T020000
END:STANDARD
BEGIN:DAYLIGHT
TZNAME:PDT
DTSTART:20220313T020000
TZOFFSETFROM:-0800
TZOFFSETTO:-0700
RDATE:20230312T020000
RDATE:20240310T020000
END:DAYLIGHT
END:VTIMEZONE
BEGIN:VEVENT
UID:0e1b2d45-5f92-4fb0-99d2-90dbea55dbc1
DTSTAMP:20260420T053726Z
DESCRIPTION:<b>Module 3 Course Objectives:</b> developmental domains\, SOGI
 E\, Nature vs Nurture\, attachment\, and the needs of children and youth i
 n foster care.\n\n<b>When registering\, please use the unique contact info
 rmation for each participant. This information is used to verify each regi
 strants attendance.</b>
DTSTART;TZID=America/Los_Angeles:20221208T173000
DTEND;TZID=America/Los_Angeles:20221208T203000
LOCATION:Virtual Training
SUMMARY:Module 3 Online
END:VEVENT
END:VCALENDAR
