BEGIN:VCALENDAR
VERSION:2.0
PRODID:-//calparents.org//NONSGML kigkonsult.se iCalcreator 2.30.10//
CALSCALE:GREGORIAN
METHOD:PUBLISH
UID:97df03b7-7f4b-40c1-acfe-35196094a1e6
X-WR-CALDESC:<b>Capacitación De La Familia De Recursos:</b> todas las clase
 s son gratis\n\n<b>Módulo 5:</b> tipos de trauma infantil\, ciclo de respu
 esta al estrés traumático\, comprensión de desencadenantes del trauma y el
  impacto de la exposición al trauma.\n\n<b>Al registrarse\, utilice la inf
 ormación de contacto única de cada participante. Esta información se utili
 za para verificar la asistencia de cada inscripto.</b>
X-WR-RELCALID:3fab50be2ab05245321cdf89406eb3df
X-WR-TIMEZONE:America/Los_Angeles
BEGIN:VTIMEZONE
TZID:America/Los_Angeles
BEGIN:STANDARD
TZNAME:PST
DTSTART:20221106T020000
TZOFFSETFROM:-0700
TZOFFSETTO:-0800
RDATE:20231105T020000
END:STANDARD
BEGIN:DAYLIGHT
TZNAME:PDT
DTSTART:20220313T020000
TZOFFSETFROM:-0800
TZOFFSETTO:-0700
RDATE:20230312T020000
RDATE:20240310T020000
END:DAYLIGHT
END:VTIMEZONE
BEGIN:VEVENT
UID:6abf7bf7-d79c-4cfa-9ce8-ccd41aff2c17
DTSTAMP:20260420T070035Z
DESCRIPTION:<b>Capacitación De La Familia De Recursos:</b> todas las clases
  son gratis\n\n<b>Módulo 5:</b> tipos de trauma infantil\, ciclo de respue
 sta al estrés traumático\, comprensión de desencadenantes del trauma y el 
 impacto de la exposición al trauma.\n\n<b>Al registrarse\, utilice la info
 rmación de contacto única de cada participante. Esta información se utiliz
 a para verificar la asistencia de cada inscripto.</b>
DTSTART;TZID=America/Los_Angeles:20221116T173000
DTEND;TZID=America/Los_Angeles:20221116T203000
LOCATION:Entrenamiento virtual
SUMMARY:Módulos 5 En Línea
END:VEVENT
END:VCALENDAR
