BEGIN:VCALENDAR
VERSION:2.0
PRODID:-//calparents.org//NONSGML kigkonsult.se iCalcreator 2.30.10//
CALSCALE:GREGORIAN
METHOD:PUBLISH
UID:fcec371c-cc3c-4a2e-80bc-f5873ffd1db0
X-WR-CALDESC:<b>Module 5 Course Objectives:</b> types of childhood trauma\,
  traumatic stress response cycle\, understanding trauma triggers\, and the
  impact of trauma exposure.\n\n\n<b>When registering\, please use the uniq
 ue contact information for each participant. This information is used to v
 erify each registrants attendance.</b>
X-WR-RELCALID:ff080e79349647974acb22882c834962
X-WR-TIMEZONE:America/Los_Angeles
BEGIN:VTIMEZONE
TZID:America/Los_Angeles
BEGIN:STANDARD
TZNAME:PST
DTSTART:20221106T020000
TZOFFSETFROM:-0700
TZOFFSETTO:-0800
RDATE:20231105T020000
END:STANDARD
BEGIN:DAYLIGHT
TZNAME:PDT
DTSTART:20220313T020000
TZOFFSETFROM:-0800
TZOFFSETTO:-0700
RDATE:20230312T020000
RDATE:20240310T020000
END:DAYLIGHT
END:VTIMEZONE
BEGIN:VEVENT
UID:101aea8a-d99c-4d0c-b094-c232f0e79414
DTSTAMP:20260420T065630Z
DESCRIPTION:<b>Module 5 Course Objectives:</b> types of childhood trauma\, 
 traumatic stress response cycle\, understanding trauma triggers\, and the 
 impact of trauma exposure.\n\n\n<b>When registering\, please use the uniqu
 e contact information for each participant. This information is used to ve
 rify each registrants attendance.</b>
DTSTART;TZID=America/Los_Angeles:20221115T173000
DTEND;TZID=America/Los_Angeles:20221115T203000
LOCATION:Virtual Training
SUMMARY:Module 5 Online
END:VEVENT
END:VCALENDAR
