BEGIN:VCALENDAR
VERSION:2.0
PRODID:-//calparents.org//NONSGML kigkonsult.se iCalcreator 2.30.10//
CALSCALE:GREGORIAN
METHOD:PUBLISH
UID:02fa741b-8b13-42fb-b9ec-756f786d87ec
X-WR-CALDESC:<b>Capacitación De La Familia De Recursos:</b> todas las clase
 s son gratis\n\n<b>Módulo 2:</b> los miembros del equipo profesional\, la 
 humildad cultural\, los derechos personales\, el estándar de padres pruden
 te\, la confidencialidad y las visitas.\n\n<b>Al registrarse\, utilice la 
 información de contacto única de cada participante. Esta información se ut
 iliza para verificar la asistencia de cada inscripto.</b>
X-WR-RELCALID:89f06bca4860077897367d06efe24232
X-WR-TIMEZONE:America/Los_Angeles
BEGIN:VTIMEZONE
TZID:America/Los_Angeles
BEGIN:STANDARD
TZNAME:PST
DTSTART:20211107T020000
TZOFFSETFROM:-0700
TZOFFSETTO:-0800
RDATE:20221106T020000
RDATE:20231105T020000
END:STANDARD
BEGIN:DAYLIGHT
TZNAME:PDT
DTSTART:20220313T020000
TZOFFSETFROM:-0800
TZOFFSETTO:-0700
RDATE:20230312T020000
RDATE:20240310T020000
END:DAYLIGHT
END:VTIMEZONE
BEGIN:VEVENT
UID:e29a5378-d48f-45b9-8271-54c1b602f99a
DTSTAMP:20260420T065911Z
DESCRIPTION:<b>Capacitación De La Familia De Recursos:</b> todas las clases
  son gratis\n\n<b>Módulo 2:</b> los miembros del equipo profesional\, la h
 umildad cultural\, los derechos personales\, el estándar de padres prudent
 e\, la confidencialidad y las visitas.\n\n<b>Al registrarse\, utilice la i
 nformación de contacto única de cada participante. Esta información se uti
 liza para verificar la asistencia de cada inscripto.</b>
DTSTART;TZID=America/Los_Angeles:20221107T173000
DTEND;TZID=America/Los_Angeles:20221107T203000
LOCATION:Entrenamiento virtual
SUMMARY:Módulo 2 En Línea
END:VEVENT
END:VCALENDAR
