BEGIN:VCALENDAR
VERSION:2.0
PRODID:-//calparents.org//NONSGML kigkonsult.se iCalcreator 2.30.10//
CALSCALE:GREGORIAN
METHOD:PUBLISH
UID:991b6dff-2272-46c2-8265-22a9c19ba910
X-WR-CALDESC:Join us on Saturday November 5\, from 9:00 am to 12:00 pm. and
  hear from Dr. Vilma Reyes as we explore ways to apply trauma informed\, r
 elationship-based interventions\, and tap into resilience to promote heali
 ng and relational repair in families.\n\nDr. Reyes will present a theoreti
 cal frame and concrete strategies to help families recover from trauma\, f
 orced family separation\, institutional racism\, and toxic fear in support
  of the wellbeing of young children and their families. Strengthening resi
 lience affects every domain in children's development\, family relationshi
 ps\, and health outcomes.
X-WR-RELCALID:f39f3097b9b75d6a2426b880a3725818
X-WR-TIMEZONE:America/Los_Angeles
BEGIN:VTIMEZONE
TZID:America/Los_Angeles
BEGIN:STANDARD
TZNAME:PST
DTSTART:20211107T020000
TZOFFSETFROM:-0700
TZOFFSETTO:-0800
RDATE:20221106T020000
RDATE:20231105T020000
END:STANDARD
BEGIN:DAYLIGHT
TZNAME:PDT
DTSTART:20220313T020000
TZOFFSETFROM:-0800
TZOFFSETTO:-0700
RDATE:20230312T020000
RDATE:20240310T020000
END:DAYLIGHT
END:VTIMEZONE
BEGIN:VEVENT
UID:2ef745d2-5da3-42e0-9ebb-b26d52e20aed
DTSTAMP:20260420T070126Z
DESCRIPTION:Join us on Saturday November 5\, from 9:00 am to 12:00 pm. and 
 hear from Dr. Vilma Reyes as we explore ways to apply trauma informed\, re
 lationship-based interventions\, and tap into resilience to promote healin
 g and relational repair in families.\n\nDr. Reyes will present a theoretic
 al frame and concrete strategies to help families recover from trauma\, fo
 rced family separation\, institutional racism\, and toxic fear in support 
 of the wellbeing of young children and their families. Strengthening resil
 ience affects every domain in children's development\, family relationship
 s\, and health outcomes.
DTSTART;TZID=America/Los_Angeles:20221105T090000
DTEND;TZID=America/Los_Angeles:20221105T120000
LOCATION:FREE Virtual Training
SUMMARY:Resilience\, Healing & Relational Repair: Transforming the Impact o
 f Interpersonal and Sociocultural Trauma on Young Children and Families
END:VEVENT
END:VCALENDAR
