BEGIN:VCALENDAR
VERSION:2.0
PRODID:-//calparents.org//NONSGML kigkonsult.se iCalcreator 2.30.10//
CALSCALE:GREGORIAN
METHOD:PUBLISH
UID:a2fe7b89-8d81-4e70-887a-e960a60307dd
X-WR-CALDESC:<b>Module 2 Course Objectives:</b> the members of the professi
 onal team\, cultural humility\, personal rights\, prudent parent standard\
 , confidentiality\, and visitation.\n\n<b>When registering\, please use th
 e unique contact information for each participant. This information is use
 d to verify each registrants attendance.</b>
X-WR-RELCALID:d9090af916b6d08258bc47a1e5816625
X-WR-TIMEZONE:America/Los_Angeles
BEGIN:VTIMEZONE
TZID:America/Los_Angeles
BEGIN:STANDARD
TZNAME:PST
DTSTART:20211107T020000
TZOFFSETFROM:-0700
TZOFFSETTO:-0800
RDATE:20221106T020000
RDATE:20231105T020000
END:STANDARD
BEGIN:DAYLIGHT
TZNAME:PDT
DTSTART:20220313T020000
TZOFFSETFROM:-0800
TZOFFSETTO:-0700
RDATE:20230312T020000
RDATE:20240310T020000
END:DAYLIGHT
END:VTIMEZONE
BEGIN:VEVENT
UID:c13f2466-8fab-4a71-94fd-5188b6252f6b
DTSTAMP:20260420T065415Z
DESCRIPTION:<b>Module 2 Course Objectives:</b> the members of the professio
 nal team\, cultural humility\, personal rights\, prudent parent standard\,
  confidentiality\, and visitation.\n\n<b>When registering\, please use the
  unique contact information for each participant. This information is used
  to verify each registrants attendance.</b>
DTSTART;TZID=America/Los_Angeles:20221103T173000
DTEND;TZID=America/Los_Angeles:20221103T203000
LOCATION:Virtual Training
SUMMARY:Module 2 Online
END:VEVENT
END:VCALENDAR
