BEGIN:VCALENDAR
VERSION:2.0
PRODID:-//calparents.org//NONSGML kigkonsult.se iCalcreator 2.30.10//
CALSCALE:GREGORIAN
METHOD:PUBLISH
UID:6a424f3d-6f3b-4912-8f07-2d8926400d04
X-WR-CALDESC:<b>Module 5 Course Objectives:</b> types of childhood trauma\,
  traumatic stress response cycle\, understanding trauma triggers\, and the
  impact of trauma exposure.\n\n\n<b>When registering\, please use the uniq
 ue contact information for each participant. This information is used to v
 erify each registrants attendance.</b>
X-WR-RELCALID:d75f2f9e1847179bde5d5fad0d2ec2c5
X-WR-TIMEZONE:America/Los_Angeles
BEGIN:VTIMEZONE
TZID:America/Los_Angeles
BEGIN:STANDARD
TZNAME:PST
DTSTART:20211107T020000
TZOFFSETFROM:-0700
TZOFFSETTO:-0800
RDATE:20221106T020000
RDATE:20231105T020000
END:STANDARD
BEGIN:DAYLIGHT
TZNAME:PDT
DTSTART:20220313T020000
TZOFFSETFROM:-0800
TZOFFSETTO:-0700
RDATE:20230312T020000
RDATE:20240310T020000
END:DAYLIGHT
END:VTIMEZONE
BEGIN:VEVENT
UID:0cb2c12e-53fe-43a3-8a28-f44defc5af03
DTSTAMP:20260422T083901Z
DESCRIPTION:<b>Module 5 Course Objectives:</b> types of childhood trauma\, 
 traumatic stress response cycle\, understanding trauma triggers\, and the 
 impact of trauma exposure.\n\n\n<b>When registering\, please use the uniqu
 e contact information for each participant. This information is used to ve
 rify each registrants attendance.</b>
DTSTART;TZID=America/Los_Angeles:20221025T173000
DTEND;TZID=America/Los_Angeles:20221025T203000
LOCATION:Virtual Training
SUMMARY:Module 5 Online
END:VEVENT
END:VCALENDAR
