BEGIN:VCALENDAR
VERSION:2.0
PRODID:-//calparents.org//NONSGML kigkonsult.se iCalcreator 2.30.10//
CALSCALE:GREGORIAN
METHOD:PUBLISH
UID:90959bd7-cb1a-48dd-8ae6-e8984791f716
X-WR-CALDESC:<b>Capacitación De La Familia De Recursos:</b> todas las clase
 s son gratis\n\n<b>Módulo 5:</b> tipos de trauma infantil\, ciclo de respu
 esta al estrés traumático\, comprensión de desencadenantes del trauma y el
  impacto de la exposición al trauma.\n\n<b>Al registrarse\, utilice la inf
 ormación de contacto única de cada participante. Esta información se utili
 za para verificar la asistencia de cada inscripto.</b>
X-WR-RELCALID:dc7f6c5f64516e1ff2e2c88aafc9be24
X-WR-TIMEZONE:America/Los_Angeles
BEGIN:VTIMEZONE
TZID:America/Los_Angeles
BEGIN:STANDARD
TZNAME:PST
DTSTART:20211107T020000
TZOFFSETFROM:-0700
TZOFFSETTO:-0800
RDATE:20221106T020000
RDATE:20231105T020000
END:STANDARD
BEGIN:DAYLIGHT
TZNAME:PDT
DTSTART:20220313T020000
TZOFFSETFROM:-0800
TZOFFSETTO:-0700
RDATE:20230312T020000
RDATE:20240310T020000
END:DAYLIGHT
END:VTIMEZONE
BEGIN:VEVENT
UID:37c88c2d-88e2-40de-a4ed-4df69e04e9fe
DTSTAMP:20260422T100930Z
DESCRIPTION:<b>Capacitación De La Familia De Recursos:</b> todas las clases
  son gratis\n\n<b>Módulo 5:</b> tipos de trauma infantil\, ciclo de respue
 sta al estrés traumático\, comprensión de desencadenantes del trauma y el 
 impacto de la exposición al trauma.\n\n<b>Al registrarse\, utilice la info
 rmación de contacto única de cada participante. Esta información se utiliz
 a para verificar la asistencia de cada inscripto.</b>
DTSTART;TZID=America/Los_Angeles:20220926T173000
DTEND;TZID=America/Los_Angeles:20220926T203000
LOCATION:Entrenamiento virtual
SUMMARY:Módulos 5 En Línea
END:VEVENT
END:VCALENDAR
