BEGIN:VCALENDAR
VERSION:2.0
PRODID:-//calparents.org//NONSGML kigkonsult.se iCalcreator 2.30.10//
CALSCALE:GREGORIAN
METHOD:PUBLISH
UID:b28aa914-f55b-4109-b139-b31ba61156ab
X-WR-CALDESC:<b>Capacitación De La Familia De Recursos:</b> todas las clase
 s son gratis\n\n<b>Módulo 4:</b> límites\, castigo versus disciplina\, man
 ejo de las necesidades emocionales y de comportamiento y medicación psicot
 rópica.\n\n<b>Al registrarse\, utilice la información de contacto única de
  cada participante. Esta información se utiliza para verificar la asistenc
 ia de cada inscripto.</b>
X-WR-RELCALID:37ce301ff88462f2ac803a142f8c60ae
X-WR-TIMEZONE:America/Los_Angeles
BEGIN:VTIMEZONE
TZID:America/Los_Angeles
BEGIN:STANDARD
TZNAME:PST
DTSTART:20211107T020000
TZOFFSETFROM:-0700
TZOFFSETTO:-0800
RDATE:20221106T020000
RDATE:20231105T020000
END:STANDARD
BEGIN:DAYLIGHT
TZNAME:PDT
DTSTART:20220313T020000
TZOFFSETFROM:-0800
TZOFFSETTO:-0700
RDATE:20230312T020000
RDATE:20240310T020000
END:DAYLIGHT
END:VTIMEZONE
BEGIN:VEVENT
UID:b2d0ca10-982a-417c-a84f-4cc8c573d6a3
DTSTAMP:20260422T100621Z
DESCRIPTION:<b>Capacitación De La Familia De Recursos:</b> todas las clases
  son gratis\n\n<b>Módulo 4:</b> límites\, castigo versus disciplina\, mane
 jo de las necesidades emocionales y de comportamiento y medicación psicotr
 ópica.\n\n<b>Al registrarse\, utilice la información de contacto única de 
 cada participante. Esta información se utiliza para verificar la asistenci
 a de cada inscripto.</b>
DTSTART;TZID=America/Los_Angeles:20220921T173000
DTEND;TZID=America/Los_Angeles:20220921T203000
LOCATION:Entrenamiento virtual
SUMMARY:Módulo 4 En Línea
END:VEVENT
END:VCALENDAR
