BEGIN:VCALENDAR
VERSION:2.0
PRODID:-//calparents.org//NONSGML kigkonsult.se iCalcreator 2.30.10//
CALSCALE:GREGORIAN
METHOD:PUBLISH
UID:334e13c3-bb44-466f-bd60-43b153e23b98
X-WR-CALDESC:<b>Module 3 Course Objectives:</b> developmental domains\, SOG
 IE\, Nature vs Nurture\, attachment\, and the needs of children and youth 
 in foster care.\n\n<b>When registering\, please use the unique contact inf
 ormation for each participant. This information is used to verify each reg
 istrants attendance.</b>
X-WR-RELCALID:7a9ab3e36c9de799b6aef500918a4e7b
X-WR-TIMEZONE:America/Los_Angeles
BEGIN:VTIMEZONE
TZID:America/Los_Angeles
BEGIN:STANDARD
TZNAME:PST
DTSTART:20211107T020000
TZOFFSETFROM:-0700
TZOFFSETTO:-0800
RDATE:20221106T020000
RDATE:20231105T020000
END:STANDARD
BEGIN:DAYLIGHT
TZNAME:PDT
DTSTART:20220313T020000
TZOFFSETFROM:-0800
TZOFFSETTO:-0700
RDATE:20230312T020000
RDATE:20240310T020000
END:DAYLIGHT
END:VTIMEZONE
BEGIN:VEVENT
UID:71f6e8ee-d9ed-4939-9766-9f43955a9d42
DTSTAMP:20260422T100903Z
DESCRIPTION:<b>Module 3 Course Objectives:</b> developmental domains\, SOGI
 E\, Nature vs Nurture\, attachment\, and the needs of children and youth i
 n foster care.\n\n<b>When registering\, please use the unique contact info
 rmation for each participant. This information is used to verify each regi
 strants attendance.</b>
DTSTART;TZID=America/Los_Angeles:20220920T173000
DTEND;TZID=America/Los_Angeles:20220920T203000
LOCATION:Virtual Training
SUMMARY:Module 3 Online
END:VEVENT
END:VCALENDAR
