BEGIN:VCALENDAR
VERSION:2.0
PRODID:-//calparents.org//NONSGML kigkonsult.se iCalcreator 2.30.10//
CALSCALE:GREGORIAN
METHOD:PUBLISH
UID:b5a3b1d3-f381-452a-9327-fd152de78e5d
X-WR-CALDESC:<b>Capacitación De La Familia De Recursos:</b> todas las clase
 s son gratis\; cuidado de niños y comida ligera proporcionada\n<b>Módulo 1
 :</b> Aprobación familiar de recursos\, servicios de bienestar infantil\, 
 seguridad\, permanencia y bienestar\, y planificación concurrente.\n\n<b>A
 l registrarse\, utilice la información de contacto única de cada participa
 nte. Esta información se utiliza para verificar la asistencia de cada insc
 ripto.</b>
X-WR-RELCALID:236462cff51b95992c0624b7b97752ec
X-WR-TIMEZONE:America/Los_Angeles
BEGIN:VTIMEZONE
TZID:America/Los_Angeles
BEGIN:STANDARD
TZNAME:PST
DTSTART:20211107T020000
TZOFFSETFROM:-0700
TZOFFSETTO:-0800
RDATE:20221106T020000
RDATE:20231105T020000
END:STANDARD
BEGIN:DAYLIGHT
TZNAME:PDT
DTSTART:20220313T020000
TZOFFSETFROM:-0800
TZOFFSETTO:-0700
RDATE:20230312T020000
RDATE:20240310T020000
END:DAYLIGHT
END:VTIMEZONE
BEGIN:VEVENT
UID:d0a1db2c-de7c-46be-8028-446f0ba35a27
DTSTAMP:20260422T100744Z
DESCRIPTION:<b>Capacitación De La Familia De Recursos:</b> todas las clases
  son gratis\; cuidado de niños y comida ligera proporcionada\n<b>Módulo 1:
 </b> Aprobación familiar de recursos\, servicios de bienestar infantil\, s
 eguridad\, permanencia y bienestar\, y planificación concurrente.\n\n<b>Al
  registrarse\, utilice la información de contacto única de cada participan
 te. Esta información se utiliza para verificar la asistencia de cada inscr
 ipto.</b>
DTSTART;TZID=America/Los_Angeles:20220912T173000
DTEND;TZID=America/Los_Angeles:20220912T203000
LOCATION:Entrenamiento virtual
SUMMARY:Módulo 1 En Línea
END:VEVENT
END:VCALENDAR
