BEGIN:VCALENDAR
VERSION:2.0
PRODID:-//calparents.org//NONSGML kigkonsult.se iCalcreator 2.30.10//
CALSCALE:GREGORIAN
METHOD:PUBLISH
UID:a947827a-6c2a-482d-bb7a-7e61d3dab1f4
X-WR-CALDESC:<b>Module 6 Course Objectives:</b> grief and loss\, transition
 s\, vicarious trauma\, and resiliency.\n\n\n<b>When registering\, please u
 se the unique contact information for each participant. This information i
 s used to verify each registrants attendance.</b>
X-WR-RELCALID:75f181097f95b04105534bbe62c8a705
X-WR-TIMEZONE:America/Los_Angeles
BEGIN:VTIMEZONE
TZID:America/Los_Angeles
BEGIN:STANDARD
TZNAME:PST
DTSTART:20211107T020000
TZOFFSETFROM:-0700
TZOFFSETTO:-0800
RDATE:20221106T020000
RDATE:20231105T020000
END:STANDARD
BEGIN:DAYLIGHT
TZNAME:PDT
DTSTART:20220313T020000
TZOFFSETFROM:-0800
TZOFFSETTO:-0700
RDATE:20230312T020000
END:DAYLIGHT
END:VTIMEZONE
BEGIN:VEVENT
UID:d3c22de5-30e8-4d05-8971-173a5be743a9
DTSTAMP:20260422T124558Z
DESCRIPTION:<b>Module 6 Course Objectives:</b> grief and loss\, transitions
 \, vicarious trauma\, and resiliency.\n\n\n<b>When registering\, please us
 e the unique contact information for each participant. This information is
  used to verify each registrants attendance.</b>
DTSTART;TZID=America/Los_Angeles:20220728T173000
DTEND;TZID=America/Los_Angeles:20220728T203000
LOCATION:Virtual Training
SUMMARY:Module 6 Online
END:VEVENT
END:VCALENDAR
