BEGIN:VCALENDAR
VERSION:2.0
PRODID:-//calparents.org//NONSGML kigkonsult.se iCalcreator 2.30.10//
CALSCALE:GREGORIAN
METHOD:PUBLISH
UID:46681c9e-6c66-4885-9f74-89de1a518b46
X-WR-CALDESC:<b>Capacitación De La Familia De Recursos:</b> todas las clase
 s son gratis\n\n<b>Módulo 4:</b> límites\, castigo versus disciplina\, man
 ejo de las necesidades emocionales y de comportamiento y medicación psicot
 rópica.\n\n<b>Al registrarse\, utilice la información de contacto única de
  cada participante. Esta información se utiliza para verificar la asistenc
 ia de cada inscripto.</b>
X-WR-RELCALID:4df15ee5a2706e7fbf6d5166bee043c3
X-WR-TIMEZONE:America/Los_Angeles
BEGIN:VTIMEZONE
TZID:America/Los_Angeles
BEGIN:STANDARD
TZNAME:PST
DTSTART:20211107T020000
TZOFFSETFROM:-0700
TZOFFSETTO:-0800
RDATE:20221106T020000
RDATE:20231105T020000
END:STANDARD
BEGIN:DAYLIGHT
TZNAME:PDT
DTSTART:20220313T020000
TZOFFSETFROM:-0800
TZOFFSETTO:-0700
RDATE:20230312T020000
END:DAYLIGHT
END:VTIMEZONE
BEGIN:VEVENT
UID:f3181be4-71a3-41dc-a9e3-6c50b49b0fa0
DTSTAMP:20260422T174103Z
DESCRIPTION:<b>Capacitación De La Familia De Recursos:</b> todas las clases
  son gratis\n\n<b>Módulo 4:</b> límites\, castigo versus disciplina\, mane
 jo de las necesidades emocionales y de comportamiento y medicación psicotr
 ópica.\n\n<b>Al registrarse\, utilice la información de contacto única de 
 cada participante. Esta información se utiliza para verificar la asistenci
 a de cada inscripto.</b>
DTSTART;TZID=America/Los_Angeles:20220720T173000
DTEND;TZID=America/Los_Angeles:20220720T203000
LOCATION:Entrenamiento virtual
SUMMARY:Módulo 4 En Línea
END:VEVENT
END:VCALENDAR
