BEGIN:VCALENDAR
VERSION:2.0
PRODID:-//calparents.org//NONSGML kigkonsult.se iCalcreator 2.30.10//
CALSCALE:GREGORIAN
METHOD:PUBLISH
UID:b7d215e6-9f92-4473-9fa0-c4538f5f94ee
X-WR-CALDESC:<b>Capacitación De La Familia De Recursos:</b> todas las clase
 s son gratis\n\n<b>Módulo 3:</b> dominios de desarrollo\, SOGIE\, Naturale
 sa contra Nutrir/Crianza\, apego y las necesidades de los niños y jóvenes 
 en hogares de recurso.\n\n<b>Al registrarse\, utilice la información de co
 ntacto única de cada participante. Esta información se utiliza para verifi
 car la asistencia de cada inscripto.</b>
X-WR-RELCALID:80a591d4d9bd25058310902d331aae3e
X-WR-TIMEZONE:America/Los_Angeles
BEGIN:VTIMEZONE
TZID:America/Los_Angeles
BEGIN:STANDARD
TZNAME:PST
DTSTART:20211107T020000
TZOFFSETFROM:-0700
TZOFFSETTO:-0800
RDATE:20221106T020000
RDATE:20231105T020000
END:STANDARD
BEGIN:DAYLIGHT
TZNAME:PDT
DTSTART:20220313T020000
TZOFFSETFROM:-0800
TZOFFSETTO:-0700
RDATE:20230312T020000
END:DAYLIGHT
END:VTIMEZONE
BEGIN:VEVENT
UID:a1933eed-a415-44ee-8895-6200875726ad
DTSTAMP:20260422T124746Z
DESCRIPTION:<b>Capacitación De La Familia De Recursos:</b> todas las clases
  son gratis\n\n<b>Módulo 3:</b> dominios de desarrollo\, SOGIE\, Naturales
 a contra Nutrir/Crianza\, apego y las necesidades de los niños y jóvenes e
 n hogares de recurso.\n\n<b>Al registrarse\, utilice la información de con
 tacto única de cada participante. Esta información se utiliza para verific
 ar la asistencia de cada inscripto.</b>
DTSTART;TZID=America/Los_Angeles:20220718T173000
DTEND;TZID=America/Los_Angeles:20220718T203000
LOCATION:Entrenamiento virtual
SUMMARY:Módulo 3 En Línea
END:VEVENT
END:VCALENDAR
