BEGIN:VCALENDAR
VERSION:2.0
PRODID:-//calparents.org//NONSGML kigkonsult.se iCalcreator 2.30.10//
CALSCALE:GREGORIAN
METHOD:PUBLISH
UID:8576eb0f-2f6f-4dbc-a4ae-2b0a3d1067e4
X-WR-CALDESC:<b>Module 1 Course Objectives:</b> resource family approval\, 
 child welfare services\, safety\, permanency and well-being\, and concurre
 nt planning.\n\n<b>When registering\, please use the unique contact inform
 ation for each participant. This information is used to verify each regist
 rants attendance.</b>
X-WR-RELCALID:faceff7a25444b280802d008ce3dc210
X-WR-TIMEZONE:America/Los_Angeles
BEGIN:VTIMEZONE
TZID:America/Los_Angeles
BEGIN:STANDARD
TZNAME:PST
DTSTART:20211107T020000
TZOFFSETFROM:-0700
TZOFFSETTO:-0800
RDATE:20221106T020000
RDATE:20231105T020000
END:STANDARD
BEGIN:DAYLIGHT
TZNAME:PDT
DTSTART:20220313T020000
TZOFFSETFROM:-0800
TZOFFSETTO:-0700
RDATE:20230312T020000
END:DAYLIGHT
END:VTIMEZONE
BEGIN:VEVENT
UID:93fac569-fba9-4172-953e-7b5c77aefe25
DTSTAMP:20260422T124423Z
DESCRIPTION:<b>Module 1 Course Objectives:</b> resource family approval\, c
 hild welfare services\, safety\, permanency and well-being\, and concurren
 t planning.\n\n<b>When registering\, please use the unique contact informa
 tion for each participant. This information is used to verify each registr
 ants attendance.</b>
DTSTART;TZID=America/Los_Angeles:20220712T173000
DTEND;TZID=America/Los_Angeles:20220712T203000
LOCATION:Virtual Training
SUMMARY:Module 1 Online
END:VEVENT
END:VCALENDAR
