BEGIN:VCALENDAR
VERSION:2.0
PRODID:-//calparents.org//NONSGML kigkonsult.se iCalcreator 2.30.10//
CALSCALE:GREGORIAN
METHOD:PUBLISH
UID:a7aaaef8-9408-4210-bfee-55f85499609a
X-WR-CALDESC:<b>Module 6 Course Objectives:</b> grief and loss\, transition
 s\, vicarious trauma\, and resiliency.\n\n\n<b>When registering\, please u
 se the unique contact information for each participant. This information i
 s used to verify each registrants attendance.</b>
X-WR-RELCALID:fa0e5d6107b1a7a970852b9818066440
X-WR-TIMEZONE:America/Los_Angeles
BEGIN:VTIMEZONE
TZID:America/Los_Angeles
BEGIN:STANDARD
TZNAME:PST
DTSTART:20211107T020000
TZOFFSETFROM:-0700
TZOFFSETTO:-0800
RDATE:20221106T020000
RDATE:20231105T020000
END:STANDARD
BEGIN:DAYLIGHT
TZNAME:PDT
DTSTART:20220313T020000
TZOFFSETFROM:-0800
TZOFFSETTO:-0700
RDATE:20230312T020000
END:DAYLIGHT
END:VTIMEZONE
BEGIN:VEVENT
UID:3bb59ad2-e980-43e5-8c94-e1bcb2d7f8f2
DTSTAMP:20260422T155553Z
DESCRIPTION:<b>Module 6 Course Objectives:</b> grief and loss\, transitions
 \, vicarious trauma\, and resiliency.\n\n\n<b>When registering\, please us
 e the unique contact information for each participant. This information is
  used to verify each registrants attendance.</b>
DTSTART;TZID=America/Los_Angeles:20220526T173000
DTEND;TZID=America/Los_Angeles:20220526T203000
LOCATION:Virtual Training
SUMMARY:Module 6 Online
END:VEVENT
END:VCALENDAR
