BEGIN:VCALENDAR
VERSION:2.0
PRODID:-//calparents.org//NONSGML kigkonsult.se iCalcreator 2.30.10//
CALSCALE:GREGORIAN
METHOD:PUBLISH
UID:95cddf77-568a-424d-a5bb-aaf803140019
X-WR-CALDESC:<b>Module 3 Course Objectives:</b> developmental domains\, SOG
 IE\, Nature vs Nurture\, attachment\, and the needs of children and youth 
 in foster care.\n\n<b>When registering\, please use the unique contact inf
 ormation for each participant. This information is used to verify each reg
 istrants attendance.</b>
X-WR-RELCALID:855b90d96b1b5213ce4b3dff10fe16e8
X-WR-TIMEZONE:America/Los_Angeles
BEGIN:VTIMEZONE
TZID:America/Los_Angeles
BEGIN:STANDARD
TZNAME:PST
DTSTART:20211107T020000
TZOFFSETFROM:-0700
TZOFFSETTO:-0800
RDATE:20221106T020000
END:STANDARD
BEGIN:DAYLIGHT
TZNAME:PDT
DTSTART:20220313T020000
TZOFFSETFROM:-0800
TZOFFSETTO:-0700
RDATE:20230312T020000
END:DAYLIGHT
END:VTIMEZONE
BEGIN:VEVENT
UID:cba35eca-97e1-4d37-a632-42b9586fd443
DTSTAMP:20260422T170731Z
DESCRIPTION:<b>Module 3 Course Objectives:</b> developmental domains\, SOGI
 E\, Nature vs Nurture\, attachment\, and the needs of children and youth i
 n foster care.\n\n<b>When registering\, please use the unique contact info
 rmation for each participant. This information is used to verify each regi
 strants attendance.</b>
DTSTART;TZID=America/Los_Angeles:20220412T173000
DTEND;TZID=America/Los_Angeles:20220412T203000
LOCATION:Virtual Training
SUMMARY:Module 3 Online
END:VEVENT
END:VCALENDAR
