BEGIN:VCALENDAR
VERSION:2.0
PRODID:-//calparents.org//NONSGML kigkonsult.se iCalcreator 2.30.10//
CALSCALE:GREGORIAN
METHOD:PUBLISH
UID:a1f011b2-1a9b-4005-b86f-3d9e3f8e8d8f
X-WR-CALDESC:<b>Capacitación De La Familia De Recursos:</b> todas las clase
 s son gratis\n\n\n<b>Módulo 6:</b> dolor y pérdida\, transiciones\, trauma
  vicario y resilienci.\n\n<b>Al registrarse\, utilice la información de co
 ntacto única de cada participante. Esta información se utiliza para verifi
 car la asistencia de cada inscripto.</b>
X-WR-RELCALID:fc2b64a612d0190f9de0cbfdb1395a45
X-WR-TIMEZONE:America/Los_Angeles
BEGIN:VTIMEZONE
TZID:America/Los_Angeles
BEGIN:STANDARD
TZNAME:PST
DTSTART:20211107T020000
TZOFFSETFROM:-0700
TZOFFSETTO:-0800
RDATE:20221106T020000
END:STANDARD
BEGIN:DAYLIGHT
TZNAME:PDT
DTSTART:20220313T020000
TZOFFSETFROM:-0800
TZOFFSETTO:-0700
RDATE:20230312T020000
END:DAYLIGHT
END:VTIMEZONE
BEGIN:VEVENT
UID:4ce47dcb-eade-43c9-a7e1-3282f2b6dd76
DTSTAMP:20260422T193533Z
DESCRIPTION:<b>Capacitación De La Familia De Recursos:</b> todas las clases
  son gratis\n\n\n<b>Módulo 6:</b> dolor y pérdida\, transiciones\, trauma 
 vicario y resilienci.\n\n<b>Al registrarse\, utilice la información de con
 tacto única de cada participante. Esta información se utiliza para verific
 ar la asistencia de cada inscripto.</b>
DTSTART;TZID=America/Los_Angeles:20220323T173000
DTEND;TZID=America/Los_Angeles:20220323T203000
LOCATION:Entrenamiento virtual
SUMMARY:Módulos 6 En Línea
END:VEVENT
END:VCALENDAR
